BEGIN:VCALENDAR
VERSION:2.0
PRODID:-//Inmobiliaria Lontue - ECPv6.15.17//NONSGML v1.0//EN
CALSCALE:GREGORIAN
METHOD:PUBLISH
X-ORIGINAL-URL:https://lontue.com
X-WR-CALDESC:Eventos para Inmobiliaria Lontue
REFRESH-INTERVAL;VALUE=DURATION:PT1H
X-Robots-Tag:noindex
X-PUBLISHED-TTL:PT1H
BEGIN:VTIMEZONE
TZID:America/Lima
BEGIN:STANDARD
TZOFFSETFROM:-0500
TZOFFSETTO:-0500
TZNAME:-05
DTSTART:20240101T000000
END:STANDARD
END:VTIMEZONE
BEGIN:VEVENT
DTSTART;VALUE=DATE:20250630
DTEND;VALUE=DATE:20250701
DTSTAMP:20260419T172253
CREATED:20250702T161257Z
LAST-MODIFIED:20250702T161257Z
UID:14145-1751241600-1751327999@lontue.com
SUMMARY:Valor UF junio de 2025
DESCRIPTION:Valor UF junio de 2025\n \n$39267\,07 pesos\nEste es el valor de la Unidad de Fomento del día\, indicado en pesos chilenos. \nConoce más sobre la UF y su comportamiento aquí en nuestro blogConoce más indicadores diarios del Banco Central de Chile aquí
URL:https://lontue.com/uf/valor-uf-junio-de-2025-30/
LOCATION:Chile\, Chile
ATTACH;FMTTYPE=image/jpeg:https://lontue.com/wp-content/uploads/2025/07/valor_uf_2025_chile_concepcion_.jpg
END:VEVENT
BEGIN:VEVENT
DTSTART;VALUE=DATE:20250629
DTEND;VALUE=DATE:20250630
DTSTAMP:20260419T172253
CREATED:20250702T161256Z
LAST-MODIFIED:20250702T161256Z
UID:14144-1751155200-1751241599@lontue.com
SUMMARY:Valor UF junio de 2025
DESCRIPTION:Valor UF junio de 2025\n \n$39264\,46 pesos\nEste es el valor de la Unidad de Fomento del día\, indicado en pesos chilenos. \nConoce más sobre la UF y su comportamiento aquí en nuestro blogConoce más indicadores diarios del Banco Central de Chile aquí
URL:https://lontue.com/uf/valor-uf-junio-de-2025-29/
LOCATION:Chile\, Chile
ATTACH;FMTTYPE=image/jpeg:https://lontue.com/wp-content/uploads/2025/07/valor_uf_2025_chile_concepcion_.jpg
END:VEVENT
BEGIN:VEVENT
DTSTART;VALUE=DATE:20250628
DTEND;VALUE=DATE:20250629
DTSTAMP:20260419T172253
CREATED:20250702T161059Z
LAST-MODIFIED:20250702T161059Z
UID:14143-1751068800-1751155199@lontue.com
SUMMARY:Valor UF junio de 2025
DESCRIPTION:Valor UF junio de 2025\n \n$39261\,84 pesos\nEste es el valor de la Unidad de Fomento del día\, indicado en pesos chilenos. \nConoce más sobre la UF y su comportamiento aquí en nuestro blogConoce más indicadores diarios del Banco Central de Chile aquí
URL:https://lontue.com/uf/valor-uf-junio-de-2025-28/
LOCATION:Chile\, Chile
ATTACH;FMTTYPE=image/jpeg:https://lontue.com/wp-content/uploads/2025/07/valor_uf_2025_chile_concepcion_.jpg
END:VEVENT
BEGIN:VEVENT
DTSTART;VALUE=DATE:20250627
DTEND;VALUE=DATE:20250628
DTSTAMP:20260419T172253
CREATED:20250702T161058Z
LAST-MODIFIED:20250702T161058Z
UID:14142-1750982400-1751068799@lontue.com
SUMMARY:Valor UF junio de 2025
DESCRIPTION:Valor UF junio de 2025\n \n$39259\,23 pesos\nEste es el valor de la Unidad de Fomento del día\, indicado en pesos chilenos. \nConoce más sobre la UF y su comportamiento aquí en nuestro blogConoce más indicadores diarios del Banco Central de Chile aquí
URL:https://lontue.com/uf/valor-uf-junio-de-2025-27/
LOCATION:Chile\, Chile
ATTACH;FMTTYPE=image/jpeg:https://lontue.com/wp-content/uploads/2025/07/valor_uf_2025_chile_concepcion_.jpg
END:VEVENT
BEGIN:VEVENT
DTSTART;VALUE=DATE:20250626
DTEND;VALUE=DATE:20250627
DTSTAMP:20260419T172253
CREATED:20250702T161057Z
LAST-MODIFIED:20250702T161057Z
UID:14141-1750896000-1750982399@lontue.com
SUMMARY:Valor UF junio de 2025
DESCRIPTION:Valor UF junio de 2025\n \n$39256\,61 pesos\nEste es el valor de la Unidad de Fomento del día\, indicado en pesos chilenos. \nConoce más sobre la UF y su comportamiento aquí en nuestro blogConoce más indicadores diarios del Banco Central de Chile aquí
URL:https://lontue.com/uf/valor-uf-junio-de-2025-26/
LOCATION:Chile\, Chile
ATTACH;FMTTYPE=image/jpeg:https://lontue.com/wp-content/uploads/2025/07/valor_uf_2025_chile_concepcion_.jpg
END:VEVENT
BEGIN:VEVENT
DTSTART;VALUE=DATE:20250625
DTEND;VALUE=DATE:20250626
DTSTAMP:20260419T172253
CREATED:20250702T161056Z
LAST-MODIFIED:20250702T161056Z
UID:14140-1750809600-1750895999@lontue.com
SUMMARY:Valor UF junio de 2025
DESCRIPTION:Valor UF junio de 2025\n \n$39254\,00 pesos\nEste es el valor de la Unidad de Fomento del día\, indicado en pesos chilenos. \nConoce más sobre la UF y su comportamiento aquí en nuestro blogConoce más indicadores diarios del Banco Central de Chile aquí
URL:https://lontue.com/uf/valor-uf-junio-de-2025-25/
LOCATION:Chile\, Chile
ATTACH;FMTTYPE=image/jpeg:https://lontue.com/wp-content/uploads/2025/07/valor_uf_2025_chile_concepcion_.jpg
END:VEVENT
BEGIN:VEVENT
DTSTART;VALUE=DATE:20250624
DTEND;VALUE=DATE:20250625
DTSTAMP:20260419T172253
CREATED:20250702T161055Z
LAST-MODIFIED:20250702T161055Z
UID:14139-1750723200-1750809599@lontue.com
SUMMARY:Valor UF junio de 2025
DESCRIPTION:Valor UF junio de 2025\n \n$39251\,38 pesos\nEste es el valor de la Unidad de Fomento del día\, indicado en pesos chilenos. \nConoce más sobre la UF y su comportamiento aquí en nuestro blogConoce más indicadores diarios del Banco Central de Chile aquí
URL:https://lontue.com/uf/valor-uf-junio-de-2025-24/
LOCATION:Chile\, Chile
ATTACH;FMTTYPE=image/jpeg:https://lontue.com/wp-content/uploads/2025/07/valor_uf_2025_chile_concepcion_.jpg
END:VEVENT
BEGIN:VEVENT
DTSTART;VALUE=DATE:20250623
DTEND;VALUE=DATE:20250624
DTSTAMP:20260419T172253
CREATED:20250702T160900Z
LAST-MODIFIED:20250702T160900Z
UID:14138-1750636800-1750723199@lontue.com
SUMMARY:Valor UF junio de 2025
DESCRIPTION:Valor UF junio de 2025\n \n$39248\,77 pesos\nEste es el valor de la Unidad de Fomento del día\, indicado en pesos chilenos. \nConoce más sobre la UF y su comportamiento aquí en nuestro blogConoce más indicadores diarios del Banco Central de Chile aquí
URL:https://lontue.com/uf/valor-uf-junio-de-2025-23/
LOCATION:Chile\, Chile
ATTACH;FMTTYPE=image/jpeg:https://lontue.com/wp-content/uploads/2025/07/valor_uf_2025_chile_concepcion_.jpg
END:VEVENT
BEGIN:VEVENT
DTSTART;VALUE=DATE:20250622
DTEND;VALUE=DATE:20250623
DTSTAMP:20260419T172253
CREATED:20250702T160859Z
LAST-MODIFIED:20250702T160859Z
UID:14137-1750550400-1750636799@lontue.com
SUMMARY:Valor UF junio de 2025
DESCRIPTION:Valor UF junio de 2025\n \n$39246\,15 pesos\nEste es el valor de la Unidad de Fomento del día\, indicado en pesos chilenos. \nConoce más sobre la UF y su comportamiento aquí en nuestro blogConoce más indicadores diarios del Banco Central de Chile aquí
URL:https://lontue.com/uf/valor-uf-junio-de-2025-22/
LOCATION:Chile\, Chile
ATTACH;FMTTYPE=image/jpeg:https://lontue.com/wp-content/uploads/2025/07/valor_uf_2025_chile_concepcion_.jpg
END:VEVENT
BEGIN:VEVENT
DTSTART;VALUE=DATE:20250621
DTEND;VALUE=DATE:20250622
DTSTAMP:20260419T172253
CREATED:20250702T160857Z
LAST-MODIFIED:20250702T160857Z
UID:14136-1750464000-1750550399@lontue.com
SUMMARY:Valor UF junio de 2025
DESCRIPTION:Valor UF junio de 2025\n \n$39243\,54 pesos\nEste es el valor de la Unidad de Fomento del día\, indicado en pesos chilenos. \nConoce más sobre la UF y su comportamiento aquí en nuestro blogConoce más indicadores diarios del Banco Central de Chile aquí
URL:https://lontue.com/uf/valor-uf-junio-de-2025-21/
LOCATION:Chile\, Chile
ATTACH;FMTTYPE=image/jpeg:https://lontue.com/wp-content/uploads/2025/07/valor_uf_2025_chile_concepcion_.jpg
END:VEVENT
BEGIN:VEVENT
DTSTART;VALUE=DATE:20250620
DTEND;VALUE=DATE:20250621
DTSTAMP:20260419T172253
CREATED:20250702T160856Z
LAST-MODIFIED:20250702T160856Z
UID:14135-1750377600-1750463999@lontue.com
SUMMARY:Valor UF junio de 2025
DESCRIPTION:Valor UF junio de 2025\n \n$39240\,93 pesos\nEste es el valor de la Unidad de Fomento del día\, indicado en pesos chilenos. \nConoce más sobre la UF y su comportamiento aquí en nuestro blogConoce más indicadores diarios del Banco Central de Chile aquí
URL:https://lontue.com/uf/valor-uf-junio-de-2025-20/
LOCATION:Chile\, Chile
ATTACH;FMTTYPE=image/jpeg:https://lontue.com/wp-content/uploads/2025/07/valor_uf_2025_chile_concepcion_.jpg
END:VEVENT
BEGIN:VEVENT
DTSTART;VALUE=DATE:20250619
DTEND;VALUE=DATE:20250620
DTSTAMP:20260419T172253
CREATED:20250702T160855Z
LAST-MODIFIED:20250702T160855Z
UID:14134-1750291200-1750377599@lontue.com
SUMMARY:Valor UF junio de 2025
DESCRIPTION:Valor UF junio de 2025\n \n$39238\,31 pesos\nEste es el valor de la Unidad de Fomento del día\, indicado en pesos chilenos. \nConoce más sobre la UF y su comportamiento aquí en nuestro blogConoce más indicadores diarios del Banco Central de Chile aquí
URL:https://lontue.com/uf/valor-uf-junio-de-2025-19/
LOCATION:Chile\, Chile
ATTACH;FMTTYPE=image/jpeg:https://lontue.com/wp-content/uploads/2025/07/valor_uf_2025_chile_concepcion_.jpg
END:VEVENT
BEGIN:VEVENT
DTSTART;VALUE=DATE:20250618
DTEND;VALUE=DATE:20250619
DTSTAMP:20260419T172253
CREATED:20250702T160657Z
LAST-MODIFIED:20250702T160657Z
UID:14133-1750204800-1750291199@lontue.com
SUMMARY:Valor UF junio de 2025
DESCRIPTION:Valor UF junio de 2025\n \n$39235\,70 pesos\nEste es el valor de la Unidad de Fomento del día\, indicado en pesos chilenos. \nConoce más sobre la UF y su comportamiento aquí en nuestro blogConoce más indicadores diarios del Banco Central de Chile aquí
URL:https://lontue.com/uf/valor-uf-junio-de-2025-18/
LOCATION:Chile\, Chile
ATTACH;FMTTYPE=image/jpeg:https://lontue.com/wp-content/uploads/2025/07/valor_uf_2025_chile_concepcion_.jpg
END:VEVENT
BEGIN:VEVENT
DTSTART;VALUE=DATE:20250617
DTEND;VALUE=DATE:20250618
DTSTAMP:20260419T172253
CREATED:20250702T160656Z
LAST-MODIFIED:20250702T160656Z
UID:14132-1750118400-1750204799@lontue.com
SUMMARY:Valor UF junio de 2025
DESCRIPTION:Valor UF junio de 2025\n \n$39233\,09 pesos\nEste es el valor de la Unidad de Fomento del día\, indicado en pesos chilenos. \nConoce más sobre la UF y su comportamiento aquí en nuestro blogConoce más indicadores diarios del Banco Central de Chile aquí
URL:https://lontue.com/uf/valor-uf-junio-de-2025-17/
LOCATION:Chile\, Chile
ATTACH;FMTTYPE=image/jpeg:https://lontue.com/wp-content/uploads/2025/07/valor_uf_2025_chile_concepcion_.jpg
END:VEVENT
BEGIN:VEVENT
DTSTART;VALUE=DATE:20250616
DTEND;VALUE=DATE:20250617
DTSTAMP:20260419T172253
CREATED:20250702T160655Z
LAST-MODIFIED:20250702T160655Z
UID:14131-1750032000-1750118399@lontue.com
SUMMARY:Valor UF junio de 2025
DESCRIPTION:Valor UF junio de 2025\n \n$39230\,48 pesos\nEste es el valor de la Unidad de Fomento del día\, indicado en pesos chilenos. \nConoce más sobre la UF y su comportamiento aquí en nuestro blogConoce más indicadores diarios del Banco Central de Chile aquí
URL:https://lontue.com/uf/valor-uf-junio-de-2025-16/
LOCATION:Chile\, Chile
ATTACH;FMTTYPE=image/jpeg:https://lontue.com/wp-content/uploads/2025/07/valor_uf_2025_chile_concepcion_.jpg
END:VEVENT
BEGIN:VEVENT
DTSTART;VALUE=DATE:20250615
DTEND;VALUE=DATE:20250616
DTSTAMP:20260419T172253
CREATED:20250702T160654Z
LAST-MODIFIED:20250702T160654Z
UID:14130-1749945600-1750031999@lontue.com
SUMMARY:Valor UF junio de 2025
DESCRIPTION:Valor UF junio de 2025\n \n$39227\,86 pesos\nEste es el valor de la Unidad de Fomento del día\, indicado en pesos chilenos. \nConoce más sobre la UF y su comportamiento aquí en nuestro blogConoce más indicadores diarios del Banco Central de Chile aquí
URL:https://lontue.com/uf/valor-uf-junio-de-2025-15/
LOCATION:Chile\, Chile
ATTACH;FMTTYPE=image/jpeg:https://lontue.com/wp-content/uploads/2025/07/valor_uf_2025_chile_concepcion_.jpg
END:VEVENT
BEGIN:VEVENT
DTSTART;VALUE=DATE:20250614
DTEND;VALUE=DATE:20250615
DTSTAMP:20260419T172253
CREATED:20250702T160653Z
LAST-MODIFIED:20250702T160653Z
UID:14129-1749859200-1749945599@lontue.com
SUMMARY:Valor UF junio de 2025
DESCRIPTION:Valor UF junio de 2025\n \n$39225\,25 pesos\nEste es el valor de la Unidad de Fomento del día\, indicado en pesos chilenos. \nConoce más sobre la UF y su comportamiento aquí en nuestro blogConoce más indicadores diarios del Banco Central de Chile aquí
URL:https://lontue.com/uf/valor-uf-junio-de-2025-14/
LOCATION:Chile\, Chile
ATTACH;FMTTYPE=image/jpeg:https://lontue.com/wp-content/uploads/2025/07/valor_uf_2025_chile_concepcion_.jpg
END:VEVENT
BEGIN:VEVENT
DTSTART;VALUE=DATE:20250613
DTEND;VALUE=DATE:20250614
DTSTAMP:20260419T172253
CREATED:20250702T160500Z
LAST-MODIFIED:20250702T160500Z
UID:14128-1749772800-1749859199@lontue.com
SUMMARY:Valor UF junio de 2025
DESCRIPTION:Valor UF junio de 2025\n \n$39222\,64 pesos\nEste es el valor de la Unidad de Fomento del día\, indicado en pesos chilenos. \nConoce más sobre la UF y su comportamiento aquí en nuestro blogConoce más indicadores diarios del Banco Central de Chile aquí
URL:https://lontue.com/uf/valor-uf-junio-de-2025-13/
LOCATION:Chile\, Chile
ATTACH;FMTTYPE=image/jpeg:https://lontue.com/wp-content/uploads/2025/07/valor_uf_2025_chile_concepcion_.jpg
END:VEVENT
BEGIN:VEVENT
DTSTART;VALUE=DATE:20250612
DTEND;VALUE=DATE:20250613
DTSTAMP:20260419T172253
CREATED:20250702T160459Z
LAST-MODIFIED:20250702T160459Z
UID:14127-1749686400-1749772799@lontue.com
SUMMARY:Valor UF junio de 2025
DESCRIPTION:Valor UF junio de 2025\n \n$39220\,03 pesos\nEste es el valor de la Unidad de Fomento del día\, indicado en pesos chilenos. \nConoce más sobre la UF y su comportamiento aquí en nuestro blogConoce más indicadores diarios del Banco Central de Chile aquí
URL:https://lontue.com/uf/valor-uf-junio-de-2025-12/
LOCATION:Chile\, Chile
ATTACH;FMTTYPE=image/jpeg:https://lontue.com/wp-content/uploads/2025/07/valor_uf_2025_chile_concepcion_.jpg
END:VEVENT
BEGIN:VEVENT
DTSTART;VALUE=DATE:20250611
DTEND;VALUE=DATE:20250612
DTSTAMP:20260419T172253
CREATED:20250702T160457Z
LAST-MODIFIED:20250702T160457Z
UID:14126-1749600000-1749686399@lontue.com
SUMMARY:Valor UF junio de 2025
DESCRIPTION:Valor UF junio de 2025\n \n$39217\,41 pesos\nEste es el valor de la Unidad de Fomento del día\, indicado en pesos chilenos. \nConoce más sobre la UF y su comportamiento aquí en nuestro blogConoce más indicadores diarios del Banco Central de Chile aquí
URL:https://lontue.com/uf/valor-uf-junio-de-2025-11/
LOCATION:Chile\, Chile
ATTACH;FMTTYPE=image/jpeg:https://lontue.com/wp-content/uploads/2025/07/valor_uf_2025_chile_concepcion_.jpg
END:VEVENT
BEGIN:VEVENT
DTSTART;VALUE=DATE:20250610
DTEND;VALUE=DATE:20250611
DTSTAMP:20260419T172253
CREATED:20250702T160456Z
LAST-MODIFIED:20250702T160456Z
UID:14125-1749513600-1749599999@lontue.com
SUMMARY:Valor UF junio de 2025
DESCRIPTION:Valor UF junio de 2025\n \n$39214\,80 pesos\nEste es el valor de la Unidad de Fomento del día\, indicado en pesos chilenos. \nConoce más sobre la UF y su comportamiento aquí en nuestro blogConoce más indicadores diarios del Banco Central de Chile aquí
URL:https://lontue.com/uf/valor-uf-junio-de-2025-10/
LOCATION:Chile\, Chile
ATTACH;FMTTYPE=image/jpeg:https://lontue.com/wp-content/uploads/2025/07/valor_uf_2025_chile_concepcion_.jpg
END:VEVENT
BEGIN:VEVENT
DTSTART;VALUE=DATE:20250609
DTEND;VALUE=DATE:20250610
DTSTAMP:20260419T172253
CREATED:20250702T160455Z
LAST-MODIFIED:20250702T160455Z
UID:14124-1749427200-1749513599@lontue.com
SUMMARY:Valor UF junio de 2025
DESCRIPTION:Valor UF junio de 2025\n \n$39212\,19 pesos\nEste es el valor de la Unidad de Fomento del día\, indicado en pesos chilenos. \nConoce más sobre la UF y su comportamiento aquí en nuestro blogConoce más indicadores diarios del Banco Central de Chile aquí
URL:https://lontue.com/uf/valor-uf-junio-de-2025-9/
LOCATION:Chile\, Chile
ATTACH;FMTTYPE=image/jpeg:https://lontue.com/wp-content/uploads/2025/07/valor_uf_2025_chile_concepcion_.jpg
END:VEVENT
BEGIN:VEVENT
DTSTART;VALUE=DATE:20250608
DTEND;VALUE=DATE:20250609
DTSTAMP:20260419T172253
CREATED:20250702T160257Z
LAST-MODIFIED:20250702T160257Z
UID:14123-1749340800-1749427199@lontue.com
SUMMARY:Valor UF junio de 2025
DESCRIPTION:Valor UF junio de 2025\n \n$39209\,66 pesos\nEste es el valor de la Unidad de Fomento del día\, indicado en pesos chilenos. \nConoce más sobre la UF y su comportamiento aquí en nuestro blogConoce más indicadores diarios del Banco Central de Chile aquí
URL:https://lontue.com/uf/valor-uf-junio-de-2025-8/
LOCATION:Chile\, Chile
ATTACH;FMTTYPE=image/jpeg:https://lontue.com/wp-content/uploads/2025/07/valor_uf_2025_chile_concepcion_.jpg
END:VEVENT
BEGIN:VEVENT
DTSTART;VALUE=DATE:20250607
DTEND;VALUE=DATE:20250608
DTSTAMP:20260419T172253
CREATED:20250702T160256Z
LAST-MODIFIED:20250702T160256Z
UID:14122-1749254400-1749340799@lontue.com
SUMMARY:Valor UF junio de 2025
DESCRIPTION:Valor UF junio de 2025\n \n$39207\,13 pesos\nEste es el valor de la Unidad de Fomento del día\, indicado en pesos chilenos. \nConoce más sobre la UF y su comportamiento aquí en nuestro blogConoce más indicadores diarios del Banco Central de Chile aquí
URL:https://lontue.com/uf/valor-uf-junio-de-2025-7/
LOCATION:Chile\, Chile
ATTACH;FMTTYPE=image/jpeg:https://lontue.com/wp-content/uploads/2025/07/valor_uf_2025_chile_concepcion_.jpg
END:VEVENT
BEGIN:VEVENT
DTSTART;VALUE=DATE:20250606
DTEND;VALUE=DATE:20250607
DTSTAMP:20260419T172253
CREATED:20250702T160254Z
LAST-MODIFIED:20250702T160254Z
UID:14121-1749168000-1749254399@lontue.com
SUMMARY:Valor UF junio de 2025
DESCRIPTION:Valor UF junio de 2025\n \n$39204\,61 pesos\nEste es el valor de la Unidad de Fomento del día\, indicado en pesos chilenos. \nConoce más sobre la UF y su comportamiento aquí en nuestro blogConoce más indicadores diarios del Banco Central de Chile aquí
URL:https://lontue.com/uf/valor-uf-junio-de-2025-6/
LOCATION:Chile\, Chile
ATTACH;FMTTYPE=image/jpeg:https://lontue.com/wp-content/uploads/2025/07/valor_uf_2025_chile_concepcion_.jpg
END:VEVENT
BEGIN:VEVENT
DTSTART;VALUE=DATE:20250605
DTEND;VALUE=DATE:20250606
DTSTAMP:20260419T172253
CREATED:20250702T160253Z
LAST-MODIFIED:20250702T160253Z
UID:14120-1749081600-1749167999@lontue.com
SUMMARY:Valor UF junio de 2025
DESCRIPTION:Valor UF junio de 2025\n \n$39202\,08 pesos\nEste es el valor de la Unidad de Fomento del día\, indicado en pesos chilenos. \nConoce más sobre la UF y su comportamiento aquí en nuestro blogConoce más indicadores diarios del Banco Central de Chile aquí
URL:https://lontue.com/uf/valor-uf-junio-de-2025-5/
LOCATION:Chile\, Chile
ATTACH;FMTTYPE=image/jpeg:https://lontue.com/wp-content/uploads/2025/07/valor_uf_2025_chile_concepcion_.jpg
END:VEVENT
BEGIN:VEVENT
DTSTART;VALUE=DATE:20250604
DTEND;VALUE=DATE:20250605
DTSTAMP:20260419T172253
CREATED:20250702T160252Z
LAST-MODIFIED:20250702T160252Z
UID:14119-1748995200-1749081599@lontue.com
SUMMARY:Valor UF junio de 2025
DESCRIPTION:Valor UF junio de 2025\n \n$39199\,55 pesos\nEste es el valor de la Unidad de Fomento del día\, indicado en pesos chilenos. \nConoce más sobre la UF y su comportamiento aquí en nuestro blogConoce más indicadores diarios del Banco Central de Chile aquí
URL:https://lontue.com/uf/valor-uf-junio-de-2025-4/
LOCATION:Chile\, Chile
ATTACH;FMTTYPE=image/jpeg:https://lontue.com/wp-content/uploads/2025/07/valor_uf_2025_chile_concepcion_.jpg
END:VEVENT
BEGIN:VEVENT
DTSTART;VALUE=DATE:20250603
DTEND;VALUE=DATE:20250604
DTSTAMP:20260419T172253
CREATED:20250702T160055Z
LAST-MODIFIED:20250702T160055Z
UID:14118-1748908800-1748995199@lontue.com
SUMMARY:Valor UF junio de 2025
DESCRIPTION:Valor UF junio de 2025\n \n$39197\,03 pesos\nEste es el valor de la Unidad de Fomento del día\, indicado en pesos chilenos. \nConoce más sobre la UF y su comportamiento aquí en nuestro blogConoce más indicadores diarios del Banco Central de Chile aquí
URL:https://lontue.com/uf/valor-uf-junio-de-2025-3/
LOCATION:Chile\, Chile
ATTACH;FMTTYPE=image/jpeg:https://lontue.com/wp-content/uploads/2025/07/valor_uf_2025_chile_concepcion_.jpg
END:VEVENT
BEGIN:VEVENT
DTSTART;VALUE=DATE:20250602
DTEND;VALUE=DATE:20250603
DTSTAMP:20260419T172253
CREATED:20250702T160054Z
LAST-MODIFIED:20250702T160054Z
UID:14117-1748822400-1748908799@lontue.com
SUMMARY:Valor UF junio de 2025
DESCRIPTION:Valor UF junio de 2025\n \n$39194\,50 pesos\nEste es el valor de la Unidad de Fomento del día\, indicado en pesos chilenos. \nConoce más sobre la UF y su comportamiento aquí en nuestro blogConoce más indicadores diarios del Banco Central de Chile aquí
URL:https://lontue.com/uf/valor-uf-junio-de-2025-2/
LOCATION:Chile\, Chile
ATTACH;FMTTYPE=image/jpeg:https://lontue.com/wp-content/uploads/2025/07/valor_uf_2025_chile_concepcion_.jpg
END:VEVENT
BEGIN:VEVENT
DTSTART;VALUE=DATE:20250601
DTEND;VALUE=DATE:20250602
DTSTAMP:20260419T172253
CREATED:20250702T160052Z
LAST-MODIFIED:20250702T160052Z
UID:14116-1748736000-1748822399@lontue.com
SUMMARY:Valor UF junio de 2025
DESCRIPTION:Valor UF junio de 2025\n \n$39191\,97 pesos\nEste es el valor de la Unidad de Fomento del día\, indicado en pesos chilenos. \nConoce más sobre la UF y su comportamiento aquí en nuestro blogConoce más indicadores diarios del Banco Central de Chile aquí
URL:https://lontue.com/uf/valor-uf-junio-de-2025/
LOCATION:Chile\, Chile
ATTACH;FMTTYPE=image/jpeg:https://lontue.com/wp-content/uploads/2025/07/valor_uf_2025_chile_concepcion_.jpg
END:VEVENT
END:VCALENDAR