BEGIN:VCALENDAR
VERSION:2.0
PRODID:-//Inmobiliaria Lontue - ECPv6.15.17//NONSGML v1.0//EN
CALSCALE:GREGORIAN
METHOD:PUBLISH
X-ORIGINAL-URL:https://lontue.com
X-WR-CALDESC:Eventos para Inmobiliaria Lontue
REFRESH-INTERVAL;VALUE=DURATION:PT1H
X-Robots-Tag:noindex
X-PUBLISHED-TTL:PT1H
BEGIN:VTIMEZONE
TZID:America/Lima
BEGIN:STANDARD
TZOFFSETFROM:-0500
TZOFFSETTO:-0500
TZNAME:-05
DTSTART:20240101T000000
END:STANDARD
END:VTIMEZONE
BEGIN:VEVENT
DTSTART;VALUE=DATE:20250311
DTEND;VALUE=DATE:20250312
DTSTAMP:20260422T221159
CREATED:20250312T201414Z
LAST-MODIFIED:20250312T201414Z
UID:13498-1741651200-1741737599@lontue.com
SUMMARY:Valor UF marzo de 2025
DESCRIPTION:Valor UF marzo de 2025\n \n$38794\,07 pesos\nEste es el valor de la Unidad de Fomento del día\, indicado en pesos chilenos. \nConoce más sobre la UF y su comportamiento aquí en nuestro blogConoce más indicadores diarios del Banco Central de Chile aquí
URL:https://lontue.com/uf/valor-uf-marzo-de-2025-11/
LOCATION:Chile\, Chile
ATTACH;FMTTYPE=image/jpeg:https://lontue.com/wp-content/uploads/2025/03/valor_uf_2025_chile_concepcion.jpg
END:VEVENT
BEGIN:VEVENT
DTSTART;VALUE=DATE:20250312
DTEND;VALUE=DATE:20250313
DTSTAMP:20260422T221159
CREATED:20250312T201415Z
LAST-MODIFIED:20250312T201415Z
UID:13499-1741737600-1741823999@lontue.com
SUMMARY:Valor UF marzo de 2025
DESCRIPTION:Valor UF marzo de 2025\n \n$38799\,07 pesos\nEste es el valor de la Unidad de Fomento del día\, indicado en pesos chilenos. \nConoce más sobre la UF y su comportamiento aquí en nuestro blogConoce más indicadores diarios del Banco Central de Chile aquí
URL:https://lontue.com/uf/valor-uf-marzo-de-2025-12/
LOCATION:Chile\, Chile
ATTACH;FMTTYPE=image/jpeg:https://lontue.com/wp-content/uploads/2025/03/valor_uf_2025_chile_concepcion.jpg
END:VEVENT
BEGIN:VEVENT
DTSTART;VALUE=DATE:20250313
DTEND;VALUE=DATE:20250314
DTSTAMP:20260422T221159
CREATED:20250312T201416Z
LAST-MODIFIED:20250312T201416Z
UID:13500-1741824000-1741910399@lontue.com
SUMMARY:Valor UF marzo de 2025
DESCRIPTION:Valor UF marzo de 2025\n \n$38804\,06 pesos\nEste es el valor de la Unidad de Fomento del día\, indicado en pesos chilenos. \nConoce más sobre la UF y su comportamiento aquí en nuestro blogConoce más indicadores diarios del Banco Central de Chile aquí
URL:https://lontue.com/uf/valor-uf-marzo-de-2025-13/
LOCATION:Chile\, Chile
ATTACH;FMTTYPE=image/jpeg:https://lontue.com/wp-content/uploads/2025/03/valor_uf_2025_chile_concepcion.jpg
END:VEVENT
BEGIN:VEVENT
DTSTART;VALUE=DATE:20250314
DTEND;VALUE=DATE:20250315
DTSTAMP:20260422T221159
CREATED:20250312T201417Z
LAST-MODIFIED:20250312T201417Z
UID:13501-1741910400-1741996799@lontue.com
SUMMARY:Valor UF marzo de 2025
DESCRIPTION:Valor UF marzo de 2025\n \n$38809\,06 pesos\nEste es el valor de la Unidad de Fomento del día\, indicado en pesos chilenos. \nConoce más sobre la UF y su comportamiento aquí en nuestro blogConoce más indicadores diarios del Banco Central de Chile aquí
URL:https://lontue.com/uf/valor-uf-marzo-de-2025-14/
LOCATION:Chile\, Chile
ATTACH;FMTTYPE=image/jpeg:https://lontue.com/wp-content/uploads/2025/03/valor_uf_2025_chile_concepcion.jpg
END:VEVENT
BEGIN:VEVENT
DTSTART;VALUE=DATE:20250315
DTEND;VALUE=DATE:20250316
DTSTAMP:20260422T221159
CREATED:20250312T201436Z
LAST-MODIFIED:20250312T201436Z
UID:13502-1741996800-1742083199@lontue.com
SUMMARY:Valor UF marzo de 2025
DESCRIPTION:Valor UF marzo de 2025\n \n$38814\,06 pesos\nEste es el valor de la Unidad de Fomento del día\, indicado en pesos chilenos. \nConoce más sobre la UF y su comportamiento aquí en nuestro blogConoce más indicadores diarios del Banco Central de Chile aquí
URL:https://lontue.com/uf/valor-uf-marzo-de-2025-15/
LOCATION:Chile\, Chile
ATTACH;FMTTYPE=image/jpeg:https://lontue.com/wp-content/uploads/2025/03/valor_uf_2025_chile_concepcion.jpg
END:VEVENT
BEGIN:VEVENT
DTSTART;VALUE=DATE:20250316
DTEND;VALUE=DATE:20250317
DTSTAMP:20260422T221159
CREATED:20250312T201437Z
LAST-MODIFIED:20250312T201437Z
UID:13503-1742083200-1742169599@lontue.com
SUMMARY:Valor UF marzo de 2025
DESCRIPTION:Valor UF marzo de 2025\n \n$38819\,06 pesos\nEste es el valor de la Unidad de Fomento del día\, indicado en pesos chilenos. \nConoce más sobre la UF y su comportamiento aquí en nuestro blogConoce más indicadores diarios del Banco Central de Chile aquí
URL:https://lontue.com/uf/valor-uf-marzo-de-2025-16/
LOCATION:Chile\, Chile
ATTACH;FMTTYPE=image/jpeg:https://lontue.com/wp-content/uploads/2025/03/valor_uf_2025_chile_concepcion.jpg
END:VEVENT
BEGIN:VEVENT
DTSTART;VALUE=DATE:20250317
DTEND;VALUE=DATE:20250318
DTSTAMP:20260422T221159
CREATED:20250312T201438Z
LAST-MODIFIED:20250312T201438Z
UID:13504-1742169600-1742255999@lontue.com
SUMMARY:Valor UF marzo de 2025
DESCRIPTION:Valor UF marzo de 2025\n \n$38824\,06 pesos\nEste es el valor de la Unidad de Fomento del día\, indicado en pesos chilenos. \nConoce más sobre la UF y su comportamiento aquí en nuestro blogConoce más indicadores diarios del Banco Central de Chile aquí
URL:https://lontue.com/uf/valor-uf-marzo-de-2025-17/
LOCATION:Chile\, Chile
ATTACH;FMTTYPE=image/jpeg:https://lontue.com/wp-content/uploads/2025/03/valor_uf_2025_chile_concepcion.jpg
END:VEVENT
BEGIN:VEVENT
DTSTART;VALUE=DATE:20250318
DTEND;VALUE=DATE:20250319
DTSTAMP:20260422T221159
CREATED:20250312T201438Z
LAST-MODIFIED:20250312T201438Z
UID:13505-1742256000-1742342399@lontue.com
SUMMARY:Valor UF marzo de 2025
DESCRIPTION:Valor UF marzo de 2025\n \n$38829\,06 pesos\nEste es el valor de la Unidad de Fomento del día\, indicado en pesos chilenos. \nConoce más sobre la UF y su comportamiento aquí en nuestro blogConoce más indicadores diarios del Banco Central de Chile aquí
URL:https://lontue.com/uf/valor-uf-marzo-de-2025-18/
LOCATION:Chile\, Chile
ATTACH;FMTTYPE=image/jpeg:https://lontue.com/wp-content/uploads/2025/03/valor_uf_2025_chile_concepcion.jpg
END:VEVENT
BEGIN:VEVENT
DTSTART;VALUE=DATE:20250319
DTEND;VALUE=DATE:20250320
DTSTAMP:20260422T221159
CREATED:20250312T201439Z
LAST-MODIFIED:20250312T201439Z
UID:13506-1742342400-1742428799@lontue.com
SUMMARY:Valor UF marzo de 2025
DESCRIPTION:Valor UF marzo de 2025\n \n$38834\,06 pesos\nEste es el valor de la Unidad de Fomento del día\, indicado en pesos chilenos. \nConoce más sobre la UF y su comportamiento aquí en nuestro blogConoce más indicadores diarios del Banco Central de Chile aquí
URL:https://lontue.com/uf/valor-uf-marzo-de-2025-19/
LOCATION:Chile\, Chile
ATTACH;FMTTYPE=image/jpeg:https://lontue.com/wp-content/uploads/2025/03/valor_uf_2025_chile_concepcion.jpg
END:VEVENT
BEGIN:VEVENT
DTSTART;VALUE=DATE:20250320
DTEND;VALUE=DATE:20250321
DTSTAMP:20260422T221159
CREATED:20250312T201451Z
LAST-MODIFIED:20250312T201457Z
UID:13507-1742428800-1742515199@lontue.com
SUMMARY:Valor UF marzo de 2025
DESCRIPTION:Valor UF marzo de 2025\n \n$38839\,06 pesos\nEste es el valor de la Unidad de Fomento del día\, indicado en pesos chilenos. \nConoce más sobre la UF y su comportamiento aquí en nuestro blogConoce más indicadores diarios del Banco Central de Chile aquí
URL:https://lontue.com/uf/valor-uf-marzo-de-2025-20/
LOCATION:Chile\, Chile
ATTACH;FMTTYPE=image/jpeg:https://lontue.com/wp-content/uploads/2025/03/valor_uf_2025_chile_concepcion.jpg
END:VEVENT
BEGIN:VEVENT
DTSTART;VALUE=DATE:20250321
DTEND;VALUE=DATE:20250322
DTSTAMP:20260422T221159
CREATED:20250312T201452Z
LAST-MODIFIED:20250312T201458Z
UID:13508-1742515200-1742601599@lontue.com
SUMMARY:Valor UF marzo de 2025
DESCRIPTION:Valor UF marzo de 2025\n \n$38844\,06 pesos\nEste es el valor de la Unidad de Fomento del día\, indicado en pesos chilenos. \nConoce más sobre la UF y su comportamiento aquí en nuestro blogConoce más indicadores diarios del Banco Central de Chile aquí
URL:https://lontue.com/uf/valor-uf-marzo-de-2025-21/
LOCATION:Chile\, Chile
ATTACH;FMTTYPE=image/jpeg:https://lontue.com/wp-content/uploads/2025/03/valor_uf_2025_chile_concepcion.jpg
END:VEVENT
BEGIN:VEVENT
DTSTART;VALUE=DATE:20250322
DTEND;VALUE=DATE:20250323
DTSTAMP:20260422T221159
CREATED:20250312T201453Z
LAST-MODIFIED:20250312T201459Z
UID:13509-1742601600-1742687999@lontue.com
SUMMARY:Valor UF marzo de 2025
DESCRIPTION:Valor UF marzo de 2025\n \n$38849\,06 pesos\nEste es el valor de la Unidad de Fomento del día\, indicado en pesos chilenos. \nConoce más sobre la UF y su comportamiento aquí en nuestro blogConoce más indicadores diarios del Banco Central de Chile aquí
URL:https://lontue.com/uf/valor-uf-marzo-de-2025-22/
LOCATION:Chile\, Chile
ATTACH;FMTTYPE=image/jpeg:https://lontue.com/wp-content/uploads/2025/03/valor_uf_2025_chile_concepcion.jpg
END:VEVENT
BEGIN:VEVENT
DTSTART;VALUE=DATE:20250323
DTEND;VALUE=DATE:20250324
DTSTAMP:20260422T221159
CREATED:20250312T201454Z
LAST-MODIFIED:20250312T201459Z
UID:13510-1742688000-1742774399@lontue.com
SUMMARY:Valor UF marzo de 2025
DESCRIPTION:Valor UF marzo de 2025\n \n$38854\,06 pesos\nEste es el valor de la Unidad de Fomento del día\, indicado en pesos chilenos. \nConoce más sobre la UF y su comportamiento aquí en nuestro blogConoce más indicadores diarios del Banco Central de Chile aquí
URL:https://lontue.com/uf/valor-uf-marzo-de-2025-23/
LOCATION:Chile\, Chile
ATTACH;FMTTYPE=image/jpeg:https://lontue.com/wp-content/uploads/2025/03/valor_uf_2025_chile_concepcion.jpg
END:VEVENT
BEGIN:VEVENT
DTSTART;VALUE=DATE:20250324
DTEND;VALUE=DATE:20250325
DTSTAMP:20260422T221159
CREATED:20250312T201455Z
LAST-MODIFIED:20250312T201500Z
UID:13511-1742774400-1742860799@lontue.com
SUMMARY:Valor UF marzo de 2025
DESCRIPTION:Valor UF marzo de 2025\n \n$38859\,07 pesos\nEste es el valor de la Unidad de Fomento del día\, indicado en pesos chilenos. \nConoce más sobre la UF y su comportamiento aquí en nuestro blogConoce más indicadores diarios del Banco Central de Chile aquí
URL:https://lontue.com/uf/valor-uf-marzo-de-2025-24/
LOCATION:Chile\, Chile
ATTACH;FMTTYPE=image/jpeg:https://lontue.com/wp-content/uploads/2025/03/valor_uf_2025_chile_concepcion.jpg
END:VEVENT
BEGIN:VEVENT
DTSTART;VALUE=DATE:20250325
DTEND;VALUE=DATE:20250326
DTSTAMP:20260422T221159
CREATED:20250312T201511Z
LAST-MODIFIED:20250312T201511Z
UID:13517-1742860800-1742947199@lontue.com
SUMMARY:Valor UF marzo de 2025
DESCRIPTION:Valor UF marzo de 2025\n \n$38864\,07 pesos\nEste es el valor de la Unidad de Fomento del día\, indicado en pesos chilenos. \nConoce más sobre la UF y su comportamiento aquí en nuestro blogConoce más indicadores diarios del Banco Central de Chile aquí
URL:https://lontue.com/uf/valor-uf-marzo-de-2025-25/
LOCATION:Chile\, Chile
ATTACH;FMTTYPE=image/jpeg:https://lontue.com/wp-content/uploads/2025/03/valor_uf_2025_chile_concepcion.jpg
END:VEVENT
BEGIN:VEVENT
DTSTART;VALUE=DATE:20250326
DTEND;VALUE=DATE:20250327
DTSTAMP:20260422T221159
CREATED:20250312T201512Z
LAST-MODIFIED:20250312T201512Z
UID:13518-1742947200-1743033599@lontue.com
SUMMARY:Valor UF marzo de 2025
DESCRIPTION:Valor UF marzo de 2025\n \n$38869\,08 pesos\nEste es el valor de la Unidad de Fomento del día\, indicado en pesos chilenos. \nConoce más sobre la UF y su comportamiento aquí en nuestro blogConoce más indicadores diarios del Banco Central de Chile aquí
URL:https://lontue.com/uf/valor-uf-marzo-de-2025-26/
LOCATION:Chile\, Chile
ATTACH;FMTTYPE=image/jpeg:https://lontue.com/wp-content/uploads/2025/03/valor_uf_2025_chile_concepcion.jpg
END:VEVENT
BEGIN:VEVENT
DTSTART;VALUE=DATE:20250327
DTEND;VALUE=DATE:20250328
DTSTAMP:20260422T221159
CREATED:20250312T201513Z
LAST-MODIFIED:20250312T201513Z
UID:13519-1743033600-1743119999@lontue.com
SUMMARY:Valor UF marzo de 2025
DESCRIPTION:Valor UF marzo de 2025\n \n$38874\,08 pesos\nEste es el valor de la Unidad de Fomento del día\, indicado en pesos chilenos. \nConoce más sobre la UF y su comportamiento aquí en nuestro blogConoce más indicadores diarios del Banco Central de Chile aquí
URL:https://lontue.com/uf/valor-uf-marzo-de-2025-27/
LOCATION:Chile\, Chile
ATTACH;FMTTYPE=image/jpeg:https://lontue.com/wp-content/uploads/2025/03/valor_uf_2025_chile_concepcion.jpg
END:VEVENT
BEGIN:VEVENT
DTSTART;VALUE=DATE:20250328
DTEND;VALUE=DATE:20250329
DTSTAMP:20260422T221159
CREATED:20250312T201514Z
LAST-MODIFIED:20250312T201514Z
UID:13520-1743120000-1743206399@lontue.com
SUMMARY:Valor UF marzo de 2025
DESCRIPTION:Valor UF marzo de 2025\n \n$38879\,09 pesos\nEste es el valor de la Unidad de Fomento del día\, indicado en pesos chilenos. \nConoce más sobre la UF y su comportamiento aquí en nuestro blogConoce más indicadores diarios del Banco Central de Chile aquí
URL:https://lontue.com/uf/valor-uf-marzo-de-2025-28/
LOCATION:Chile\, Chile
ATTACH;FMTTYPE=image/jpeg:https://lontue.com/wp-content/uploads/2025/03/valor_uf_2025_chile_concepcion.jpg
END:VEVENT
BEGIN:VEVENT
DTSTART;VALUE=DATE:20250329
DTEND;VALUE=DATE:20250330
DTSTAMP:20260422T221159
CREATED:20250312T201515Z
LAST-MODIFIED:20250312T201515Z
UID:13521-1743206400-1743292799@lontue.com
SUMMARY:Valor UF marzo de 2025
DESCRIPTION:Valor UF marzo de 2025\n \n$38884\,10 pesos\nEste es el valor de la Unidad de Fomento del día\, indicado en pesos chilenos. \nConoce más sobre la UF y su comportamiento aquí en nuestro blogConoce más indicadores diarios del Banco Central de Chile aquí
URL:https://lontue.com/uf/valor-uf-marzo-de-2025-29/
LOCATION:Chile\, Chile
ATTACH;FMTTYPE=image/jpeg:https://lontue.com/wp-content/uploads/2025/03/valor_uf_2025_chile_concepcion.jpg
END:VEVENT
BEGIN:VEVENT
DTSTART;VALUE=DATE:20250330
DTEND;VALUE=DATE:20250331
DTSTAMP:20260422T221159
CREATED:20250312T201518Z
LAST-MODIFIED:20250312T201518Z
UID:13522-1743292800-1743379199@lontue.com
SUMMARY:Valor UF marzo de 2025
DESCRIPTION:Valor UF marzo de 2025\n \n$38889\,10 pesos\nEste es el valor de la Unidad de Fomento del día\, indicado en pesos chilenos. \nConoce más sobre la UF y su comportamiento aquí en nuestro blogConoce más indicadores diarios del Banco Central de Chile aquí
URL:https://lontue.com/uf/valor-uf-marzo-de-2025-30/
LOCATION:Chile\, Chile
ATTACH;FMTTYPE=image/jpeg:https://lontue.com/wp-content/uploads/2025/03/valor_uf_2025_chile_concepcion.jpg
END:VEVENT
BEGIN:VEVENT
DTSTART;VALUE=DATE:20250331
DTEND;VALUE=DATE:20250401
DTSTAMP:20260422T221159
CREATED:20250312T201519Z
LAST-MODIFIED:20250312T201519Z
UID:13523-1743379200-1743465599@lontue.com
SUMMARY:Valor UF marzo de 2025
DESCRIPTION:Valor UF marzo de 2025\n \n$38894\,11 pesos\nEste es el valor de la Unidad de Fomento del día\, indicado en pesos chilenos. \nConoce más sobre la UF y su comportamiento aquí en nuestro blogConoce más indicadores diarios del Banco Central de Chile aquí
URL:https://lontue.com/uf/valor-uf-marzo-de-2025-31/
LOCATION:Chile\, Chile
ATTACH;FMTTYPE=image/jpeg:https://lontue.com/wp-content/uploads/2025/03/valor_uf_2025_chile_concepcion.jpg
END:VEVENT
BEGIN:VEVENT
DTSTART;VALUE=DATE:20250401
DTEND;VALUE=DATE:20250402
DTSTAMP:20260422T221159
CREATED:20250312T201520Z
LAST-MODIFIED:20250312T201520Z
UID:13524-1743465600-1743551999@lontue.com
SUMMARY:Valor UF abril de 2025
DESCRIPTION:Valor UF abril de 2025\n \n$38899\,12 pesos\nEste es el valor de la Unidad de Fomento del día\, indicado en pesos chilenos. \nConoce más sobre la UF y su comportamiento aquí en nuestro blogConoce más indicadores diarios del Banco Central de Chile aquí
URL:https://lontue.com/uf/valor-uf-abril-de-2025/
LOCATION:Chile\, Chile
ATTACH;FMTTYPE=image/jpeg:https://lontue.com/wp-content/uploads/2025/03/valor_uf_2025_chile_concepcion.jpg
END:VEVENT
BEGIN:VEVENT
DTSTART;VALUE=DATE:20250402
DTEND;VALUE=DATE:20250403
DTSTAMP:20260422T221159
CREATED:20250312T201521Z
LAST-MODIFIED:20250312T201521Z
UID:13525-1743552000-1743638399@lontue.com
SUMMARY:Valor UF abril de 2025
DESCRIPTION:Valor UF abril de 2025\n \n$38904\,13 pesos\nEste es el valor de la Unidad de Fomento del día\, indicado en pesos chilenos. \nConoce más sobre la UF y su comportamiento aquí en nuestro blogConoce más indicadores diarios del Banco Central de Chile aquí
URL:https://lontue.com/uf/valor-uf-abril-de-2025-2/
LOCATION:Chile\, Chile
ATTACH;FMTTYPE=image/jpeg:https://lontue.com/wp-content/uploads/2025/03/valor_uf_2025_chile_concepcion.jpg
END:VEVENT
BEGIN:VEVENT
DTSTART;VALUE=DATE:20250403
DTEND;VALUE=DATE:20250404
DTSTAMP:20260422T221159
CREATED:20250312T201522Z
LAST-MODIFIED:20250312T201522Z
UID:13526-1743638400-1743724799@lontue.com
SUMMARY:Valor UF abril de 2025
DESCRIPTION:Valor UF abril de 2025\n \n$38909\,14 pesos\nEste es el valor de la Unidad de Fomento del día\, indicado en pesos chilenos. \nConoce más sobre la UF y su comportamiento aquí en nuestro blogConoce más indicadores diarios del Banco Central de Chile aquí
URL:https://lontue.com/uf/valor-uf-abril-de-2025-3/
LOCATION:Chile\, Chile
ATTACH;FMTTYPE=image/jpeg:https://lontue.com/wp-content/uploads/2025/03/valor_uf_2025_chile_concepcion.jpg
END:VEVENT
BEGIN:VEVENT
DTSTART;VALUE=DATE:20250404
DTEND;VALUE=DATE:20250405
DTSTAMP:20260422T221159
CREATED:20250312T201533Z
LAST-MODIFIED:20250312T201533Z
UID:13527-1743724800-1743811199@lontue.com
SUMMARY:Valor UF abril de 2025
DESCRIPTION:Valor UF abril de 2025\n \n$38914\,15 pesos\nEste es el valor de la Unidad de Fomento del día\, indicado en pesos chilenos. \nConoce más sobre la UF y su comportamiento aquí en nuestro blogConoce más indicadores diarios del Banco Central de Chile aquí
URL:https://lontue.com/uf/valor-uf-abril-de-2025-4/
LOCATION:Chile\, Chile
ATTACH;FMTTYPE=image/jpeg:https://lontue.com/wp-content/uploads/2025/03/valor_uf_2025_chile_concepcion.jpg
END:VEVENT
BEGIN:VEVENT
DTSTART;VALUE=DATE:20250405
DTEND;VALUE=DATE:20250406
DTSTAMP:20260422T221159
CREATED:20250312T201534Z
LAST-MODIFIED:20250312T201534Z
UID:13528-1743811200-1743897599@lontue.com
SUMMARY:Valor UF abril de 2025
DESCRIPTION:Valor UF abril de 2025\n \n$38919\,16 pesos\nEste es el valor de la Unidad de Fomento del día\, indicado en pesos chilenos. \nConoce más sobre la UF y su comportamiento aquí en nuestro blogConoce más indicadores diarios del Banco Central de Chile aquí
URL:https://lontue.com/uf/valor-uf-abril-de-2025-5/
LOCATION:Chile\, Chile
ATTACH;FMTTYPE=image/jpeg:https://lontue.com/wp-content/uploads/2025/03/valor_uf_2025_chile_concepcion.jpg
END:VEVENT
BEGIN:VEVENT
DTSTART;VALUE=DATE:20250406
DTEND;VALUE=DATE:20250407
DTSTAMP:20260422T221159
CREATED:20250312T201535Z
LAST-MODIFIED:20250312T201535Z
UID:13529-1743897600-1743983999@lontue.com
SUMMARY:Valor UF abril de 2025
DESCRIPTION:Valor UF abril de 2025\n \n$38924\,18 pesos\nEste es el valor de la Unidad de Fomento del día\, indicado en pesos chilenos. \nConoce más sobre la UF y su comportamiento aquí en nuestro blogConoce más indicadores diarios del Banco Central de Chile aquí
URL:https://lontue.com/uf/valor-uf-abril-de-2025-6/
LOCATION:Chile\, Chile
ATTACH;FMTTYPE=image/jpeg:https://lontue.com/wp-content/uploads/2025/03/valor_uf_2025_chile_concepcion.jpg
END:VEVENT
BEGIN:VEVENT
DTSTART;VALUE=DATE:20250407
DTEND;VALUE=DATE:20250408
DTSTAMP:20260422T221159
CREATED:20250312T201536Z
LAST-MODIFIED:20250312T201536Z
UID:13530-1743984000-1744070399@lontue.com
SUMMARY:Valor UF abril de 2025
DESCRIPTION:Valor UF abril de 2025\n \n$38929\,19 pesos\nEste es el valor de la Unidad de Fomento del día\, indicado en pesos chilenos. \nConoce más sobre la UF y su comportamiento aquí en nuestro blogConoce más indicadores diarios del Banco Central de Chile aquí
URL:https://lontue.com/uf/valor-uf-abril-de-2025-7/
LOCATION:Chile\, Chile
ATTACH;FMTTYPE=image/jpeg:https://lontue.com/wp-content/uploads/2025/03/valor_uf_2025_chile_concepcion.jpg
END:VEVENT
BEGIN:VEVENT
DTSTART;VALUE=DATE:20250408
DTEND;VALUE=DATE:20250409
DTSTAMP:20260422T221159
CREATED:20250312T201537Z
LAST-MODIFIED:20250312T201537Z
UID:13531-1744070400-1744156799@lontue.com
SUMMARY:Valor UF abril de 2025
DESCRIPTION:Valor UF abril de 2025\n \n$38934\,20 pesos\nEste es el valor de la Unidad de Fomento del día\, indicado en pesos chilenos. \nConoce más sobre la UF y su comportamiento aquí en nuestro blogConoce más indicadores diarios del Banco Central de Chile aquí
URL:https://lontue.com/uf/valor-uf-abril-de-2025-8/
LOCATION:Chile\, Chile
ATTACH;FMTTYPE=image/jpeg:https://lontue.com/wp-content/uploads/2025/03/valor_uf_2025_chile_concepcion.jpg
END:VEVENT
BEGIN:VEVENT
DTSTART;VALUE=DATE:20250409
DTEND;VALUE=DATE:20250410
DTSTAMP:20260422T221159
CREATED:20250312T201540Z
LAST-MODIFIED:20250312T201540Z
UID:13532-1744156800-1744243199@lontue.com
SUMMARY:Valor UF abril de 2025
DESCRIPTION:Valor UF abril de 2025\n \n$38939\,22 pesos\nEste es el valor de la Unidad de Fomento del día\, indicado en pesos chilenos. \nConoce más sobre la UF y su comportamiento aquí en nuestro blogConoce más indicadores diarios del Banco Central de Chile aquí
URL:https://lontue.com/uf/valor-uf-abril-de-2025-9/
LOCATION:Chile\, Chile
ATTACH;FMTTYPE=image/jpeg:https://lontue.com/wp-content/uploads/2025/03/valor_uf_2025_chile_concepcion.jpg
END:VEVENT
END:VCALENDAR