BEGIN:VCALENDAR
VERSION:2.0
PRODID:-//Inmobiliaria Lontue - ECPv6.15.17//NONSGML v1.0//EN
CALSCALE:GREGORIAN
METHOD:PUBLISH
X-ORIGINAL-URL:https://lontue.com
X-WR-CALDESC:Eventos para Inmobiliaria Lontue
REFRESH-INTERVAL;VALUE=DURATION:PT1H
X-Robots-Tag:noindex
X-PUBLISHED-TTL:PT1H
BEGIN:VTIMEZONE
TZID:America/Lima
BEGIN:STANDARD
TZOFFSETFROM:-0500
TZOFFSETTO:-0500
TZNAME:-05
DTSTART:20230101T000000
END:STANDARD
END:VTIMEZONE
BEGIN:VEVENT
DTSTART;VALUE=DATE:20241029
DTEND;VALUE=DATE:20241030
DTSTAMP:20260424T181514
CREATED:20241010T104751Z
LAST-MODIFIED:20241010T104751Z
UID:12959-1730160000-1730246399@lontue.com
SUMMARY:Valor UF octubre de 2024
DESCRIPTION:Valor UF octubre de 2024\n \n$37968.98 pesos\nEste es el valor de la Unidad de Fomento del día\, indicado en pesos chilenos. \nConoce más sobre la UF y su comportamiento aquí en nuestro blogConoce más indicadores diarios del Banco Central de Chile aquí
URL:https://lontue.com/uf/valor-uf-octubre-de-2024-29/
LOCATION:Chile\, Chile
ATTACH;FMTTYPE=image/jpeg:https://lontue.com/wp-content/uploads/2024/10/Valor-UF-septiembre-2024-Chile-Concepcion.jpg
END:VEVENT
BEGIN:VEVENT
DTSTART;VALUE=DATE:20241030
DTEND;VALUE=DATE:20241031
DTSTAMP:20260424T181514
CREATED:20241010T104948Z
LAST-MODIFIED:20241010T104948Z
UID:12960-1730246400-1730332799@lontue.com
SUMMARY:Valor UF octubre de 2024
DESCRIPTION:Valor UF octubre de 2024\n \n$37970.20 pesos\nEste es el valor de la Unidad de Fomento del día\, indicado en pesos chilenos. \nConoce más sobre la UF y su comportamiento aquí en nuestro blogConoce más indicadores diarios del Banco Central de Chile aquí
URL:https://lontue.com/uf/valor-uf-octubre-de-2024-30/
LOCATION:Chile\, Chile
ATTACH;FMTTYPE=image/jpeg:https://lontue.com/wp-content/uploads/2024/10/Valor-UF-septiembre-2024-Chile-Concepcion.jpg
END:VEVENT
BEGIN:VEVENT
DTSTART;VALUE=DATE:20241031
DTEND;VALUE=DATE:20241101
DTSTAMP:20260424T181514
CREATED:20241010T104949Z
LAST-MODIFIED:20241010T104949Z
UID:12961-1730332800-1730419199@lontue.com
SUMMARY:Valor UF octubre de 2024
DESCRIPTION:Valor UF octubre de 2024\n \n$37971.42 pesos\nEste es el valor de la Unidad de Fomento del día\, indicado en pesos chilenos. \nConoce más sobre la UF y su comportamiento aquí en nuestro blogConoce más indicadores diarios del Banco Central de Chile aquí
URL:https://lontue.com/uf/valor-uf-octubre-de-2024-31/
LOCATION:Chile\, Chile
ATTACH;FMTTYPE=image/jpeg:https://lontue.com/wp-content/uploads/2024/10/Valor-UF-septiembre-2024-Chile-Concepcion.jpg
END:VEVENT
BEGIN:VEVENT
DTSTART;VALUE=DATE:20241101
DTEND;VALUE=DATE:20241102
DTSTAMP:20260424T181514
CREATED:20241010T104951Z
LAST-MODIFIED:20241010T104951Z
UID:12962-1730419200-1730505599@lontue.com
SUMMARY:Valor UF noviembre de 2024
DESCRIPTION:Valor UF noviembre de 2024\n \n$37972.65 pesos\nEste es el valor de la Unidad de Fomento del día\, indicado en pesos chilenos. \nConoce más sobre la UF y su comportamiento aquí en nuestro blogConoce más indicadores diarios del Banco Central de Chile aquí
URL:https://lontue.com/uf/valor-uf-noviembre-de-2024/
LOCATION:Chile\, Chile
ATTACH;FMTTYPE=image/jpeg:https://lontue.com/wp-content/uploads/2024/10/Valor-UF-septiembre-2024-Chile-Concepcion.jpg
END:VEVENT
BEGIN:VEVENT
DTSTART;VALUE=DATE:20241102
DTEND;VALUE=DATE:20241103
DTSTAMP:20260424T181514
CREATED:20241010T104952Z
LAST-MODIFIED:20241010T104952Z
UID:12963-1730505600-1730591999@lontue.com
SUMMARY:Valor UF noviembre de 2024
DESCRIPTION:Valor UF noviembre de 2024\n \n$37973.87 pesos\nEste es el valor de la Unidad de Fomento del día\, indicado en pesos chilenos. \nConoce más sobre la UF y su comportamiento aquí en nuestro blogConoce más indicadores diarios del Banco Central de Chile aquí
URL:https://lontue.com/uf/valor-uf-noviembre-de-2024-2/
LOCATION:Chile\, Chile
ATTACH;FMTTYPE=image/jpeg:https://lontue.com/wp-content/uploads/2024/10/Valor-UF-septiembre-2024-Chile-Concepcion.jpg
END:VEVENT
BEGIN:VEVENT
DTSTART;VALUE=DATE:20241103
DTEND;VALUE=DATE:20241104
DTSTAMP:20260424T181514
CREATED:20241010T104953Z
LAST-MODIFIED:20241010T104953Z
UID:12964-1730592000-1730678399@lontue.com
SUMMARY:Valor UF noviembre de 2024
DESCRIPTION:Valor UF noviembre de 2024\n \n$37975.10 pesos\nEste es el valor de la Unidad de Fomento del día\, indicado en pesos chilenos. \nConoce más sobre la UF y su comportamiento aquí en nuestro blogConoce más indicadores diarios del Banco Central de Chile aquí
URL:https://lontue.com/uf/valor-uf-noviembre-de-2024-3/
LOCATION:Chile\, Chile
ATTACH;FMTTYPE=image/jpeg:https://lontue.com/wp-content/uploads/2024/10/Valor-UF-septiembre-2024-Chile-Concepcion.jpg
END:VEVENT
BEGIN:VEVENT
DTSTART;VALUE=DATE:20241104
DTEND;VALUE=DATE:20241105
DTSTAMP:20260424T181514
CREATED:20241010T105149Z
LAST-MODIFIED:20241010T105149Z
UID:12965-1730678400-1730764799@lontue.com
SUMMARY:Valor UF noviembre de 2024
DESCRIPTION:Valor UF noviembre de 2024\n \n$37976.32 pesos\nEste es el valor de la Unidad de Fomento del día\, indicado en pesos chilenos. \nConoce más sobre la UF y su comportamiento aquí en nuestro blogConoce más indicadores diarios del Banco Central de Chile aquí
URL:https://lontue.com/uf/valor-uf-noviembre-de-2024-4/
LOCATION:Chile\, Chile
ATTACH;FMTTYPE=image/jpeg:https://lontue.com/wp-content/uploads/2024/10/Valor-UF-septiembre-2024-Chile-Concepcion.jpg
END:VEVENT
BEGIN:VEVENT
DTSTART;VALUE=DATE:20241105
DTEND;VALUE=DATE:20241106
DTSTAMP:20260424T181514
CREATED:20241010T105151Z
LAST-MODIFIED:20241010T105151Z
UID:12966-1730764800-1730851199@lontue.com
SUMMARY:Valor UF noviembre de 2024
DESCRIPTION:Valor UF noviembre de 2024\n \n$37977.55 pesos\nEste es el valor de la Unidad de Fomento del día\, indicado en pesos chilenos. \nConoce más sobre la UF y su comportamiento aquí en nuestro blogConoce más indicadores diarios del Banco Central de Chile aquí
URL:https://lontue.com/uf/valor-uf-noviembre-de-2024-5/
LOCATION:Chile\, Chile
ATTACH;FMTTYPE=image/jpeg:https://lontue.com/wp-content/uploads/2024/10/Valor-UF-septiembre-2024-Chile-Concepcion.jpg
END:VEVENT
BEGIN:VEVENT
DTSTART;VALUE=DATE:20241106
DTEND;VALUE=DATE:20241107
DTSTAMP:20260424T181514
CREATED:20241010T105152Z
LAST-MODIFIED:20241010T105152Z
UID:12967-1730851200-1730937599@lontue.com
SUMMARY:Valor UF noviembre de 2024
DESCRIPTION:Valor UF noviembre de 2024\n \n$37978.77 pesos\nEste es el valor de la Unidad de Fomento del día\, indicado en pesos chilenos. \nConoce más sobre la UF y su comportamiento aquí en nuestro blogConoce más indicadores diarios del Banco Central de Chile aquí
URL:https://lontue.com/uf/valor-uf-noviembre-de-2024-6/
LOCATION:Chile\, Chile
ATTACH;FMTTYPE=image/jpeg:https://lontue.com/wp-content/uploads/2024/10/Valor-UF-septiembre-2024-Chile-Concepcion.jpg
END:VEVENT
BEGIN:VEVENT
DTSTART;VALUE=DATE:20241107
DTEND;VALUE=DATE:20241108
DTSTAMP:20260424T181514
CREATED:20241010T105153Z
LAST-MODIFIED:20241010T105153Z
UID:12968-1730937600-1731023999@lontue.com
SUMMARY:Valor UF noviembre de 2024
DESCRIPTION:Valor UF noviembre de 2024\n \n$37980.00 pesos\nEste es el valor de la Unidad de Fomento del día\, indicado en pesos chilenos. \nConoce más sobre la UF y su comportamiento aquí en nuestro blogConoce más indicadores diarios del Banco Central de Chile aquí
URL:https://lontue.com/uf/valor-uf-noviembre-de-2024-7/
LOCATION:Chile\, Chile
ATTACH;FMTTYPE=image/jpeg:https://lontue.com/wp-content/uploads/2024/10/Valor-UF-septiembre-2024-Chile-Concepcion.jpg
END:VEVENT
BEGIN:VEVENT
DTSTART;VALUE=DATE:20241108
DTEND;VALUE=DATE:20241109
DTSTAMP:20260424T181514
CREATED:20241010T105154Z
LAST-MODIFIED:20241010T105154Z
UID:12969-1731024000-1731110399@lontue.com
SUMMARY:Valor UF noviembre de 2024
DESCRIPTION:Valor UF noviembre de 2024\n \n$37981.22 pesos\nEste es el valor de la Unidad de Fomento del día\, indicado en pesos chilenos. \nConoce más sobre la UF y su comportamiento aquí en nuestro blogConoce más indicadores diarios del Banco Central de Chile aquí
URL:https://lontue.com/uf/valor-uf-noviembre-de-2024-8/
LOCATION:Chile\, Chile
ATTACH;FMTTYPE=image/jpeg:https://lontue.com/wp-content/uploads/2024/10/Valor-UF-septiembre-2024-Chile-Concepcion.jpg
END:VEVENT
BEGIN:VEVENT
DTSTART;VALUE=DATE:20241109
DTEND;VALUE=DATE:20241110
DTSTAMP:20260424T181514
CREATED:20241010T105350Z
LAST-MODIFIED:20241010T105350Z
UID:12970-1731110400-1731196799@lontue.com
SUMMARY:Valor UF noviembre de 2024
DESCRIPTION:Valor UF noviembre de 2024\n \n$37982.44 pesos\nEste es el valor de la Unidad de Fomento del día\, indicado en pesos chilenos. \nConoce más sobre la UF y su comportamiento aquí en nuestro blogConoce más indicadores diarios del Banco Central de Chile aquí
URL:https://lontue.com/uf/valor-uf-noviembre-de-2024-9/
LOCATION:Chile\, Chile
ATTACH;FMTTYPE=image/jpeg:https://lontue.com/wp-content/uploads/2024/10/Valor-UF-septiembre-2024-Chile-Concepcion.jpg
END:VEVENT
BEGIN:VEVENT
DTSTART;VALUE=DATE:20241110
DTEND;VALUE=DATE:20241111
DTSTAMP:20260424T181514
CREATED:20241113T142320Z
LAST-MODIFIED:20241113T142320Z
UID:13047-1731196800-1731283199@lontue.com
SUMMARY:Valor UF noviembre de 2024
DESCRIPTION:Valor UF noviembre de 2024\n \n$37995\,04 pesos\nEste es el valor de la Unidad de Fomento del día\, indicado en pesos chilenos. \nConoce más sobre la UF y su comportamiento aquí en nuestro blogConoce más indicadores diarios del Banco Central de Chile aquí
URL:https://lontue.com/uf/valor-uf-noviembre-de-2024-10/
LOCATION:Chile\, Chile
ATTACH;FMTTYPE=image/jpeg:https://lontue.com/wp-content/uploads/2024/11/UFdiciembre2024.jpg
END:VEVENT
BEGIN:VEVENT
DTSTART;VALUE=DATE:20241111
DTEND;VALUE=DATE:20241112
DTSTAMP:20260424T181514
CREATED:20241113T142322Z
LAST-MODIFIED:20241113T142322Z
UID:13048-1731283200-1731369599@lontue.com
SUMMARY:Valor UF noviembre de 2024
DESCRIPTION:Valor UF noviembre de 2024\n \n$38007\,64 pesos\nEste es el valor de la Unidad de Fomento del día\, indicado en pesos chilenos. \nConoce más sobre la UF y su comportamiento aquí en nuestro blogConoce más indicadores diarios del Banco Central de Chile aquí
URL:https://lontue.com/uf/valor-uf-noviembre-de-2024-11/
LOCATION:Chile\, Chile
ATTACH;FMTTYPE=image/jpeg:https://lontue.com/wp-content/uploads/2024/11/UFdiciembre2024.jpg
END:VEVENT
BEGIN:VEVENT
DTSTART;VALUE=DATE:20241112
DTEND;VALUE=DATE:20241113
DTSTAMP:20260424T181514
CREATED:20241113T142323Z
LAST-MODIFIED:20241113T142323Z
UID:13049-1731369600-1731455999@lontue.com
SUMMARY:Valor UF noviembre de 2024
DESCRIPTION:Valor UF noviembre de 2024\n \n$38020\,25 pesos\nEste es el valor de la Unidad de Fomento del día\, indicado en pesos chilenos. \nConoce más sobre la UF y su comportamiento aquí en nuestro blogConoce más indicadores diarios del Banco Central de Chile aquí
URL:https://lontue.com/uf/valor-uf-noviembre-de-2024-12/
LOCATION:Chile\, Chile
ATTACH;FMTTYPE=image/jpeg:https://lontue.com/wp-content/uploads/2024/11/UFdiciembre2024.jpg
END:VEVENT
BEGIN:VEVENT
DTSTART;VALUE=DATE:20241113
DTEND;VALUE=DATE:20241114
DTSTAMP:20260424T181514
CREATED:20241113T142324Z
LAST-MODIFIED:20241113T142324Z
UID:13050-1731456000-1731542399@lontue.com
SUMMARY:Valor UF noviembre de 2024
DESCRIPTION:Valor UF noviembre de 2024\n \n$38032\,87 pesos\nEste es el valor de la Unidad de Fomento del día\, indicado en pesos chilenos. \nConoce más sobre la UF y su comportamiento aquí en nuestro blogConoce más indicadores diarios del Banco Central de Chile aquí
URL:https://lontue.com/uf/valor-uf-noviembre-de-2024-13/
LOCATION:Chile\, Chile
ATTACH;FMTTYPE=image/jpeg:https://lontue.com/wp-content/uploads/2024/11/UFdiciembre2024.jpg
END:VEVENT
BEGIN:VEVENT
DTSTART;VALUE=DATE:20241114
DTEND;VALUE=DATE:20241115
DTSTAMP:20260424T181514
CREATED:20241113T142325Z
LAST-MODIFIED:20241113T142325Z
UID:13051-1731542400-1731628799@lontue.com
SUMMARY:Valor UF noviembre de 2024
DESCRIPTION:Valor UF noviembre de 2024\n \n$38045\,48 pesos\nEste es el valor de la Unidad de Fomento del día\, indicado en pesos chilenos. \nConoce más sobre la UF y su comportamiento aquí en nuestro blogConoce más indicadores diarios del Banco Central de Chile aquí
URL:https://lontue.com/uf/valor-uf-noviembre-de-2024-14/
LOCATION:Chile\, Chile
ATTACH;FMTTYPE=image/jpeg:https://lontue.com/wp-content/uploads/2024/11/UFdiciembre2024.jpg
END:VEVENT
BEGIN:VEVENT
DTSTART;VALUE=DATE:20241115
DTEND;VALUE=DATE:20241116
DTSTAMP:20260424T181514
CREATED:20241113T142331Z
LAST-MODIFIED:20241113T142331Z
UID:13052-1731628800-1731715199@lontue.com
SUMMARY:Valor UF noviembre de 2024
DESCRIPTION:Valor UF noviembre de 2024\n \n$38058\,10 pesos\nEste es el valor de la Unidad de Fomento del día\, indicado en pesos chilenos. \nConoce más sobre la UF y su comportamiento aquí en nuestro blogConoce más indicadores diarios del Banco Central de Chile aquí
URL:https://lontue.com/uf/valor-uf-noviembre-de-2024-15/
LOCATION:Chile\, Chile
ATTACH;FMTTYPE=image/jpeg:https://lontue.com/wp-content/uploads/2024/11/UFdiciembre2024.jpg
END:VEVENT
BEGIN:VEVENT
DTSTART;VALUE=DATE:20241116
DTEND;VALUE=DATE:20241117
DTSTAMP:20260424T181514
CREATED:20241113T142332Z
LAST-MODIFIED:20241113T142332Z
UID:13053-1731715200-1731801599@lontue.com
SUMMARY:Valor UF noviembre de 2024
DESCRIPTION:Valor UF noviembre de 2024\n \n$38070\,73 pesos\nEste es el valor de la Unidad de Fomento del día\, indicado en pesos chilenos. \nConoce más sobre la UF y su comportamiento aquí en nuestro blogConoce más indicadores diarios del Banco Central de Chile aquí
URL:https://lontue.com/uf/valor-uf-noviembre-de-2024-16/
LOCATION:Chile\, Chile
ATTACH;FMTTYPE=image/jpeg:https://lontue.com/wp-content/uploads/2024/11/UFdiciembre2024.jpg
END:VEVENT
BEGIN:VEVENT
DTSTART;VALUE=DATE:20241117
DTEND;VALUE=DATE:20241118
DTSTAMP:20260424T181514
CREATED:20241113T142334Z
LAST-MODIFIED:20241113T142334Z
UID:13054-1731801600-1731887999@lontue.com
SUMMARY:Valor UF noviembre de 2024
DESCRIPTION:Valor UF noviembre de 2024\n \n$38083\,36 pesos\nEste es el valor de la Unidad de Fomento del día\, indicado en pesos chilenos. \nConoce más sobre la UF y su comportamiento aquí en nuestro blogConoce más indicadores diarios del Banco Central de Chile aquí
URL:https://lontue.com/uf/valor-uf-noviembre-de-2024-17/
LOCATION:Chile\, Chile
ATTACH;FMTTYPE=image/jpeg:https://lontue.com/wp-content/uploads/2024/11/UFdiciembre2024.jpg
END:VEVENT
BEGIN:VEVENT
DTSTART;VALUE=DATE:20241118
DTEND;VALUE=DATE:20241119
DTSTAMP:20260424T181514
CREATED:20241113T142335Z
LAST-MODIFIED:20241113T142335Z
UID:13055-1731888000-1731974399@lontue.com
SUMMARY:Valor UF noviembre de 2024
DESCRIPTION:Valor UF noviembre de 2024\n \n$38095\,99 pesos\nEste es el valor de la Unidad de Fomento del día\, indicado en pesos chilenos. \nConoce más sobre la UF y su comportamiento aquí en nuestro blogConoce más indicadores diarios del Banco Central de Chile aquí
URL:https://lontue.com/uf/valor-uf-noviembre-de-2024-18/
LOCATION:Chile\, Chile
ATTACH;FMTTYPE=image/jpeg:https://lontue.com/wp-content/uploads/2024/11/UFdiciembre2024.jpg
END:VEVENT
BEGIN:VEVENT
DTSTART;VALUE=DATE:20241119
DTEND;VALUE=DATE:20241120
DTSTAMP:20260424T181514
CREATED:20241113T142336Z
LAST-MODIFIED:20241113T142336Z
UID:13056-1731974400-1732060799@lontue.com
SUMMARY:Valor UF noviembre de 2024
DESCRIPTION:Valor UF noviembre de 2024\n \n$38108\,63 pesos\nEste es el valor de la Unidad de Fomento del día\, indicado en pesos chilenos. \nConoce más sobre la UF y su comportamiento aquí en nuestro blogConoce más indicadores diarios del Banco Central de Chile aquí
URL:https://lontue.com/uf/valor-uf-noviembre-de-2024-19/
LOCATION:Chile\, Chile
ATTACH;FMTTYPE=image/jpeg:https://lontue.com/wp-content/uploads/2024/11/UFdiciembre2024.jpg
END:VEVENT
BEGIN:VEVENT
DTSTART;VALUE=DATE:20241120
DTEND;VALUE=DATE:20241121
DTSTAMP:20260424T181514
CREATED:20241113T142518Z
LAST-MODIFIED:20241113T142518Z
UID:13057-1732060800-1732147199@lontue.com
SUMMARY:Valor UF noviembre de 2024
DESCRIPTION:Valor UF noviembre de 2024\n \n$38121\,27 pesos\nEste es el valor de la Unidad de Fomento del día\, indicado en pesos chilenos. \nConoce más sobre la UF y su comportamiento aquí en nuestro blogConoce más indicadores diarios del Banco Central de Chile aquí
URL:https://lontue.com/uf/valor-uf-noviembre-de-2024-20/
LOCATION:Chile\, Chile
ATTACH;FMTTYPE=image/jpeg:https://lontue.com/wp-content/uploads/2024/11/UFdiciembre2024.jpg
END:VEVENT
BEGIN:VEVENT
DTSTART;VALUE=DATE:20241121
DTEND;VALUE=DATE:20241122
DTSTAMP:20260424T181514
CREATED:20241113T142519Z
LAST-MODIFIED:20241113T142519Z
UID:13058-1732147200-1732233599@lontue.com
SUMMARY:Valor UF noviembre de 2024
DESCRIPTION:Valor UF noviembre de 2024\n \n$38133\,92 pesos\nEste es el valor de la Unidad de Fomento del día\, indicado en pesos chilenos. \nConoce más sobre la UF y su comportamiento aquí en nuestro blogConoce más indicadores diarios del Banco Central de Chile aquí
URL:https://lontue.com/uf/valor-uf-noviembre-de-2024-21/
LOCATION:Chile\, Chile
ATTACH;FMTTYPE=image/jpeg:https://lontue.com/wp-content/uploads/2024/11/UFdiciembre2024.jpg
END:VEVENT
BEGIN:VEVENT
DTSTART;VALUE=DATE:20241122
DTEND;VALUE=DATE:20241123
DTSTAMP:20260424T181514
CREATED:20241113T142520Z
LAST-MODIFIED:20241113T142520Z
UID:13059-1732233600-1732319999@lontue.com
SUMMARY:Valor UF noviembre de 2024
DESCRIPTION:Valor UF noviembre de 2024\n \n$38146\,57 pesos\nEste es el valor de la Unidad de Fomento del día\, indicado en pesos chilenos. \nConoce más sobre la UF y su comportamiento aquí en nuestro blogConoce más indicadores diarios del Banco Central de Chile aquí
URL:https://lontue.com/uf/valor-uf-noviembre-de-2024-22/
LOCATION:Chile\, Chile
ATTACH;FMTTYPE=image/jpeg:https://lontue.com/wp-content/uploads/2024/11/UFdiciembre2024.jpg
END:VEVENT
BEGIN:VEVENT
DTSTART;VALUE=DATE:20241123
DTEND;VALUE=DATE:20241124
DTSTAMP:20260424T181514
CREATED:20241113T142522Z
LAST-MODIFIED:20241113T142522Z
UID:13060-1732320000-1732406399@lontue.com
SUMMARY:Valor UF noviembre de 2024
DESCRIPTION:Valor UF noviembre de 2024\n \n$38159\,22 pesos\nEste es el valor de la Unidad de Fomento del día\, indicado en pesos chilenos. \nConoce más sobre la UF y su comportamiento aquí en nuestro blogConoce más indicadores diarios del Banco Central de Chile aquí
URL:https://lontue.com/uf/valor-uf-noviembre-de-2024-23/
LOCATION:Chile\, Chile
ATTACH;FMTTYPE=image/jpeg:https://lontue.com/wp-content/uploads/2024/11/UFdiciembre2024.jpg
END:VEVENT
BEGIN:VEVENT
DTSTART;VALUE=DATE:20241124
DTEND;VALUE=DATE:20241125
DTSTAMP:20260424T181514
CREATED:20241113T142523Z
LAST-MODIFIED:20241113T142523Z
UID:13061-1732406400-1732492799@lontue.com
SUMMARY:Valor UF noviembre de 2024
DESCRIPTION:Valor UF noviembre de 2024\n \n$38171\,88 pesos\nEste es el valor de la Unidad de Fomento del día\, indicado en pesos chilenos. \nConoce más sobre la UF y su comportamiento aquí en nuestro blogConoce más indicadores diarios del Banco Central de Chile aquí
URL:https://lontue.com/uf/valor-uf-noviembre-de-2024-24/
LOCATION:Chile\, Chile
ATTACH;FMTTYPE=image/jpeg:https://lontue.com/wp-content/uploads/2024/11/UFdiciembre2024.jpg
END:VEVENT
BEGIN:VEVENT
DTSTART;VALUE=DATE:20241125
DTEND;VALUE=DATE:20241126
DTSTAMP:20260424T181514
CREATED:20241113T142701Z
LAST-MODIFIED:20241113T142701Z
UID:13062-1732492800-1732579199@lontue.com
SUMMARY:Valor UF noviembre de 2024
DESCRIPTION:Valor UF noviembre de 2024\n \n$38184\,54 pesos\nEste es el valor de la Unidad de Fomento del día\, indicado en pesos chilenos. \nConoce más sobre la UF y su comportamiento aquí en nuestro blogConoce más indicadores diarios del Banco Central de Chile aquí
URL:https://lontue.com/uf/valor-uf-noviembre-de-2024-25/
LOCATION:Chile\, Chile
ATTACH;FMTTYPE=image/jpeg:https://lontue.com/wp-content/uploads/2024/11/UFdiciembre2024.jpg
END:VEVENT
BEGIN:VEVENT
DTSTART;VALUE=DATE:20241126
DTEND;VALUE=DATE:20241127
DTSTAMP:20260424T181514
CREATED:20241113T142702Z
LAST-MODIFIED:20241113T142702Z
UID:13063-1732579200-1732665599@lontue.com
SUMMARY:Valor UF noviembre de 2024
DESCRIPTION:Valor UF noviembre de 2024\n \n$38197\,21 pesos\nEste es el valor de la Unidad de Fomento del día\, indicado en pesos chilenos. \nConoce más sobre la UF y su comportamiento aquí en nuestro blogConoce más indicadores diarios del Banco Central de Chile aquí
URL:https://lontue.com/uf/valor-uf-noviembre-de-2024-26/
LOCATION:Chile\, Chile
ATTACH;FMTTYPE=image/jpeg:https://lontue.com/wp-content/uploads/2024/11/UFdiciembre2024.jpg
END:VEVENT
BEGIN:VEVENT
DTSTART;VALUE=DATE:20241127
DTEND;VALUE=DATE:20241128
DTSTAMP:20260424T181514
CREATED:20241113T142703Z
LAST-MODIFIED:20241113T142703Z
UID:13064-1732665600-1732751999@lontue.com
SUMMARY:Valor UF noviembre de 2024
DESCRIPTION:Valor UF noviembre de 2024\n \n$38209\,88 pesos\nEste es el valor de la Unidad de Fomento del día\, indicado en pesos chilenos. \nConoce más sobre la UF y su comportamiento aquí en nuestro blogConoce más indicadores diarios del Banco Central de Chile aquí
URL:https://lontue.com/uf/valor-uf-noviembre-de-2024-27/
LOCATION:Chile\, Chile
ATTACH;FMTTYPE=image/jpeg:https://lontue.com/wp-content/uploads/2024/11/UFdiciembre2024.jpg
END:VEVENT
END:VCALENDAR