BEGIN:VCALENDAR
VERSION:2.0
PRODID:-//Inmobiliaria Lontue - ECPv6.15.17//NONSGML v1.0//EN
CALSCALE:GREGORIAN
METHOD:PUBLISH
X-WR-CALNAME:Inmobiliaria Lontue
X-ORIGINAL-URL:https://lontue.com
X-WR-CALDESC:Eventos para Inmobiliaria Lontue
REFRESH-INTERVAL;VALUE=DURATION:PT1H
X-Robots-Tag:noindex
X-PUBLISHED-TTL:PT1H
BEGIN:VTIMEZONE
TZID:America/Lima
BEGIN:STANDARD
TZOFFSETFROM:-0500
TZOFFSETTO:-0500
TZNAME:-05
DTSTART:20240101T000000
END:STANDARD
END:VTIMEZONE
BEGIN:VEVENT
DTSTART;VALUE=DATE:20250401
DTEND;VALUE=DATE:20250402
DTSTAMP:20260422T184539
CREATED:20250312T201520Z
LAST-MODIFIED:20250312T201520Z
UID:13524-1743465600-1743551999@lontue.com
SUMMARY:Valor UF abril de 2025
DESCRIPTION:Valor UF abril de 2025\n \n$38899\,12 pesos\nEste es el valor de la Unidad de Fomento del día\, indicado en pesos chilenos. \nConoce más sobre la UF y su comportamiento aquí en nuestro blogConoce más indicadores diarios del Banco Central de Chile aquí
URL:https://lontue.com/uf/valor-uf-abril-de-2025/
LOCATION:Chile\, Chile
ATTACH;FMTTYPE=image/jpeg:https://lontue.com/wp-content/uploads/2025/03/valor_uf_2025_chile_concepcion.jpg
END:VEVENT
BEGIN:VEVENT
DTSTART;VALUE=DATE:20250402
DTEND;VALUE=DATE:20250403
DTSTAMP:20260422T184539
CREATED:20250312T201521Z
LAST-MODIFIED:20250312T201521Z
UID:13525-1743552000-1743638399@lontue.com
SUMMARY:Valor UF abril de 2025
DESCRIPTION:Valor UF abril de 2025\n \n$38904\,13 pesos\nEste es el valor de la Unidad de Fomento del día\, indicado en pesos chilenos. \nConoce más sobre la UF y su comportamiento aquí en nuestro blogConoce más indicadores diarios del Banco Central de Chile aquí
URL:https://lontue.com/uf/valor-uf-abril-de-2025-2/
LOCATION:Chile\, Chile
ATTACH;FMTTYPE=image/jpeg:https://lontue.com/wp-content/uploads/2025/03/valor_uf_2025_chile_concepcion.jpg
END:VEVENT
BEGIN:VEVENT
DTSTART;VALUE=DATE:20250403
DTEND;VALUE=DATE:20250404
DTSTAMP:20260422T184539
CREATED:20250312T201522Z
LAST-MODIFIED:20250312T201522Z
UID:13526-1743638400-1743724799@lontue.com
SUMMARY:Valor UF abril de 2025
DESCRIPTION:Valor UF abril de 2025\n \n$38909\,14 pesos\nEste es el valor de la Unidad de Fomento del día\, indicado en pesos chilenos. \nConoce más sobre la UF y su comportamiento aquí en nuestro blogConoce más indicadores diarios del Banco Central de Chile aquí
URL:https://lontue.com/uf/valor-uf-abril-de-2025-3/
LOCATION:Chile\, Chile
ATTACH;FMTTYPE=image/jpeg:https://lontue.com/wp-content/uploads/2025/03/valor_uf_2025_chile_concepcion.jpg
END:VEVENT
BEGIN:VEVENT
DTSTART;VALUE=DATE:20250404
DTEND;VALUE=DATE:20250405
DTSTAMP:20260422T184539
CREATED:20250312T201533Z
LAST-MODIFIED:20250312T201533Z
UID:13527-1743724800-1743811199@lontue.com
SUMMARY:Valor UF abril de 2025
DESCRIPTION:Valor UF abril de 2025\n \n$38914\,15 pesos\nEste es el valor de la Unidad de Fomento del día\, indicado en pesos chilenos. \nConoce más sobre la UF y su comportamiento aquí en nuestro blogConoce más indicadores diarios del Banco Central de Chile aquí
URL:https://lontue.com/uf/valor-uf-abril-de-2025-4/
LOCATION:Chile\, Chile
ATTACH;FMTTYPE=image/jpeg:https://lontue.com/wp-content/uploads/2025/03/valor_uf_2025_chile_concepcion.jpg
END:VEVENT
BEGIN:VEVENT
DTSTART;VALUE=DATE:20250405
DTEND;VALUE=DATE:20250406
DTSTAMP:20260422T184539
CREATED:20250312T201534Z
LAST-MODIFIED:20250312T201534Z
UID:13528-1743811200-1743897599@lontue.com
SUMMARY:Valor UF abril de 2025
DESCRIPTION:Valor UF abril de 2025\n \n$38919\,16 pesos\nEste es el valor de la Unidad de Fomento del día\, indicado en pesos chilenos. \nConoce más sobre la UF y su comportamiento aquí en nuestro blogConoce más indicadores diarios del Banco Central de Chile aquí
URL:https://lontue.com/uf/valor-uf-abril-de-2025-5/
LOCATION:Chile\, Chile
ATTACH;FMTTYPE=image/jpeg:https://lontue.com/wp-content/uploads/2025/03/valor_uf_2025_chile_concepcion.jpg
END:VEVENT
BEGIN:VEVENT
DTSTART;VALUE=DATE:20250406
DTEND;VALUE=DATE:20250407
DTSTAMP:20260422T184539
CREATED:20250312T201535Z
LAST-MODIFIED:20250312T201535Z
UID:13529-1743897600-1743983999@lontue.com
SUMMARY:Valor UF abril de 2025
DESCRIPTION:Valor UF abril de 2025\n \n$38924\,18 pesos\nEste es el valor de la Unidad de Fomento del día\, indicado en pesos chilenos. \nConoce más sobre la UF y su comportamiento aquí en nuestro blogConoce más indicadores diarios del Banco Central de Chile aquí
URL:https://lontue.com/uf/valor-uf-abril-de-2025-6/
LOCATION:Chile\, Chile
ATTACH;FMTTYPE=image/jpeg:https://lontue.com/wp-content/uploads/2025/03/valor_uf_2025_chile_concepcion.jpg
END:VEVENT
BEGIN:VEVENT
DTSTART;VALUE=DATE:20250407
DTEND;VALUE=DATE:20250408
DTSTAMP:20260422T184539
CREATED:20250312T201536Z
LAST-MODIFIED:20250312T201536Z
UID:13530-1743984000-1744070399@lontue.com
SUMMARY:Valor UF abril de 2025
DESCRIPTION:Valor UF abril de 2025\n \n$38929\,19 pesos\nEste es el valor de la Unidad de Fomento del día\, indicado en pesos chilenos. \nConoce más sobre la UF y su comportamiento aquí en nuestro blogConoce más indicadores diarios del Banco Central de Chile aquí
URL:https://lontue.com/uf/valor-uf-abril-de-2025-7/
LOCATION:Chile\, Chile
ATTACH;FMTTYPE=image/jpeg:https://lontue.com/wp-content/uploads/2025/03/valor_uf_2025_chile_concepcion.jpg
END:VEVENT
BEGIN:VEVENT
DTSTART;VALUE=DATE:20250408
DTEND;VALUE=DATE:20250409
DTSTAMP:20260422T184539
CREATED:20250312T201537Z
LAST-MODIFIED:20250312T201537Z
UID:13531-1744070400-1744156799@lontue.com
SUMMARY:Valor UF abril de 2025
DESCRIPTION:Valor UF abril de 2025\n \n$38934\,20 pesos\nEste es el valor de la Unidad de Fomento del día\, indicado en pesos chilenos. \nConoce más sobre la UF y su comportamiento aquí en nuestro blogConoce más indicadores diarios del Banco Central de Chile aquí
URL:https://lontue.com/uf/valor-uf-abril-de-2025-8/
LOCATION:Chile\, Chile
ATTACH;FMTTYPE=image/jpeg:https://lontue.com/wp-content/uploads/2025/03/valor_uf_2025_chile_concepcion.jpg
END:VEVENT
BEGIN:VEVENT
DTSTART;VALUE=DATE:20250409
DTEND;VALUE=DATE:20250410
DTSTAMP:20260422T184539
CREATED:20250312T201540Z
LAST-MODIFIED:20250312T201540Z
UID:13532-1744156800-1744243199@lontue.com
SUMMARY:Valor UF abril de 2025
DESCRIPTION:Valor UF abril de 2025\n \n$38939\,22 pesos\nEste es el valor de la Unidad de Fomento del día\, indicado en pesos chilenos. \nConoce más sobre la UF y su comportamiento aquí en nuestro blogConoce más indicadores diarios del Banco Central de Chile aquí
URL:https://lontue.com/uf/valor-uf-abril-de-2025-9/
LOCATION:Chile\, Chile
ATTACH;FMTTYPE=image/jpeg:https://lontue.com/wp-content/uploads/2025/03/valor_uf_2025_chile_concepcion.jpg
END:VEVENT
BEGIN:VEVENT
DTSTART;VALUE=DATE:20250410
DTEND;VALUE=DATE:20250411
DTSTAMP:20260422T184539
CREATED:20250702T154231Z
LAST-MODIFIED:20250702T154231Z
UID:14059-1744243200-1744329599@lontue.com
SUMMARY:Valor UF abril de 2025
DESCRIPTION:Valor UF abril de 2025\n \n$38945\,69 pesos\nEste es el valor de la Unidad de Fomento del día\, indicado en pesos chilenos. \nConoce más sobre la UF y su comportamiento aquí en nuestro blogConoce más indicadores diarios del Banco Central de Chile aquí
URL:https://lontue.com/uf/valor-uf-abril-de-2025-10/
LOCATION:Chile\, Chile
ATTACH;FMTTYPE=image/jpeg:https://lontue.com/wp-content/uploads/2025/07/valor_uf_2025_chile_concepcion_.jpg
END:VEVENT
BEGIN:VEVENT
DTSTART;VALUE=DATE:20250411
DTEND;VALUE=DATE:20250412
DTSTAMP:20260422T184539
CREATED:20250702T154232Z
LAST-MODIFIED:20250702T154232Z
UID:14060-1744329600-1744415999@lontue.com
SUMMARY:Valor UF abril de 2025
DESCRIPTION:Valor UF abril de 2025\n \n$38952\,17 pesos\nEste es el valor de la Unidad de Fomento del día\, indicado en pesos chilenos. \nConoce más sobre la UF y su comportamiento aquí en nuestro blogConoce más indicadores diarios del Banco Central de Chile aquí
URL:https://lontue.com/uf/valor-uf-abril-de-2025-11/
LOCATION:Chile\, Chile
ATTACH;FMTTYPE=image/jpeg:https://lontue.com/wp-content/uploads/2025/07/valor_uf_2025_chile_concepcion_.jpg
END:VEVENT
BEGIN:VEVENT
DTSTART;VALUE=DATE:20250412
DTEND;VALUE=DATE:20250413
DTSTAMP:20260422T184539
CREATED:20250702T154234Z
LAST-MODIFIED:20250702T154234Z
UID:14061-1744416000-1744502399@lontue.com
SUMMARY:Valor UF abril de 2025
DESCRIPTION:Valor UF abril de 2025\n \n$38958\,65 pesos\nEste es el valor de la Unidad de Fomento del día\, indicado en pesos chilenos. \nConoce más sobre la UF y su comportamiento aquí en nuestro blogConoce más indicadores diarios del Banco Central de Chile aquí
URL:https://lontue.com/uf/valor-uf-abril-de-2025-12/
LOCATION:Chile\, Chile
ATTACH;FMTTYPE=image/jpeg:https://lontue.com/wp-content/uploads/2025/07/valor_uf_2025_chile_concepcion_.jpg
END:VEVENT
BEGIN:VEVENT
DTSTART;VALUE=DATE:20250413
DTEND;VALUE=DATE:20250414
DTSTAMP:20260422T184539
CREATED:20250702T154235Z
LAST-MODIFIED:20250702T154235Z
UID:14062-1744502400-1744588799@lontue.com
SUMMARY:Valor UF abril de 2025
DESCRIPTION:Valor UF abril de 2025\n \n$38965\,12 pesos\nEste es el valor de la Unidad de Fomento del día\, indicado en pesos chilenos. \nConoce más sobre la UF y su comportamiento aquí en nuestro blogConoce más indicadores diarios del Banco Central de Chile aquí
URL:https://lontue.com/uf/valor-uf-abril-de-2025-13/
LOCATION:Chile\, Chile
ATTACH;FMTTYPE=image/jpeg:https://lontue.com/wp-content/uploads/2025/07/valor_uf_2025_chile_concepcion_.jpg
END:VEVENT
BEGIN:VEVENT
DTSTART;VALUE=DATE:20250414
DTEND;VALUE=DATE:20250415
DTSTAMP:20260422T184539
CREATED:20250702T154236Z
LAST-MODIFIED:20250702T154236Z
UID:14063-1744588800-1744675199@lontue.com
SUMMARY:Valor UF abril de 2025
DESCRIPTION:Valor UF abril de 2025\n \n$38971\,60 pesos\nEste es el valor de la Unidad de Fomento del día\, indicado en pesos chilenos. \nConoce más sobre la UF y su comportamiento aquí en nuestro blogConoce más indicadores diarios del Banco Central de Chile aquí
URL:https://lontue.com/uf/valor-uf-abril-de-2025-14/
LOCATION:Chile\, Chile
ATTACH;FMTTYPE=image/jpeg:https://lontue.com/wp-content/uploads/2025/07/valor_uf_2025_chile_concepcion_.jpg
END:VEVENT
BEGIN:VEVENT
DTSTART;VALUE=DATE:20250415
DTEND;VALUE=DATE:20250416
DTSTAMP:20260422T184539
CREATED:20250702T154241Z
LAST-MODIFIED:20250702T154249Z
UID:14064-1744675200-1744761599@lontue.com
SUMMARY:Valor UF abril de 2025
DESCRIPTION:Valor UF abril de 2025\n \n$38978\,08 pesos\nEste es el valor de la Unidad de Fomento del día\, indicado en pesos chilenos. \nConoce más sobre la UF y su comportamiento aquí en nuestro blogConoce más indicadores diarios del Banco Central de Chile aquí
URL:https://lontue.com/uf/valor-uf-abril-de-2025-15/
LOCATION:Chile\, Chile
ATTACH;FMTTYPE=image/jpeg:https://lontue.com/wp-content/uploads/2025/07/valor_uf_2025_chile_concepcion_.jpg
END:VEVENT
BEGIN:VEVENT
DTSTART;VALUE=DATE:20250416
DTEND;VALUE=DATE:20250417
DTSTAMP:20260422T184539
CREATED:20250702T154243Z
LAST-MODIFIED:20250702T154250Z
UID:14065-1744761600-1744847999@lontue.com
SUMMARY:Valor UF abril de 2025
DESCRIPTION:Valor UF abril de 2025\n \n$38984\,56 pesos\nEste es el valor de la Unidad de Fomento del día\, indicado en pesos chilenos. \nConoce más sobre la UF y su comportamiento aquí en nuestro blogConoce más indicadores diarios del Banco Central de Chile aquí
URL:https://lontue.com/uf/valor-uf-abril-de-2025-16/
LOCATION:Chile\, Chile
ATTACH;FMTTYPE=image/jpeg:https://lontue.com/wp-content/uploads/2025/07/valor_uf_2025_chile_concepcion_.jpg
END:VEVENT
BEGIN:VEVENT
DTSTART;VALUE=DATE:20250417
DTEND;VALUE=DATE:20250418
DTSTAMP:20260422T184539
CREATED:20250702T154244Z
LAST-MODIFIED:20250702T154252Z
UID:14066-1744848000-1744934399@lontue.com
SUMMARY:Valor UF abril de 2025
DESCRIPTION:Valor UF abril de 2025\n \n$38991\,04 pesos\nEste es el valor de la Unidad de Fomento del día\, indicado en pesos chilenos. \nConoce más sobre la UF y su comportamiento aquí en nuestro blogConoce más indicadores diarios del Banco Central de Chile aquí
URL:https://lontue.com/uf/valor-uf-abril-de-2025-17/
LOCATION:Chile\, Chile
ATTACH;FMTTYPE=image/jpeg:https://lontue.com/wp-content/uploads/2025/07/valor_uf_2025_chile_concepcion_.jpg
END:VEVENT
BEGIN:VEVENT
DTSTART;VALUE=DATE:20250418
DTEND;VALUE=DATE:20250419
DTSTAMP:20260422T184539
CREATED:20250702T154245Z
LAST-MODIFIED:20250702T154253Z
UID:14067-1744934400-1745020799@lontue.com
SUMMARY:Valor UF abril de 2025
DESCRIPTION:Valor UF abril de 2025\n \n$38997\,53 pesos\nEste es el valor de la Unidad de Fomento del día\, indicado en pesos chilenos. \nConoce más sobre la UF y su comportamiento aquí en nuestro blogConoce más indicadores diarios del Banco Central de Chile aquí
URL:https://lontue.com/uf/valor-uf-abril-de-2025-18/
LOCATION:Chile\, Chile
ATTACH;FMTTYPE=image/jpeg:https://lontue.com/wp-content/uploads/2025/07/valor_uf_2025_chile_concepcion_.jpg
END:VEVENT
BEGIN:VEVENT
DTSTART;VALUE=DATE:20250419
DTEND;VALUE=DATE:20250420
DTSTAMP:20260422T184539
CREATED:20250702T154247Z
LAST-MODIFIED:20250702T154255Z
UID:14068-1745020800-1745107199@lontue.com
SUMMARY:Valor UF abril de 2025
DESCRIPTION:Valor UF abril de 2025\n \n$39004\,01 pesos\nEste es el valor de la Unidad de Fomento del día\, indicado en pesos chilenos. \nConoce más sobre la UF y su comportamiento aquí en nuestro blogConoce más indicadores diarios del Banco Central de Chile aquí
URL:https://lontue.com/uf/valor-uf-abril-de-2025-19/
LOCATION:Chile\, Chile
ATTACH;FMTTYPE=image/jpeg:https://lontue.com/wp-content/uploads/2025/07/valor_uf_2025_chile_concepcion_.jpg
END:VEVENT
BEGIN:VEVENT
DTSTART;VALUE=DATE:20250420
DTEND;VALUE=DATE:20250421
DTSTAMP:20260422T184539
CREATED:20250702T154443Z
LAST-MODIFIED:20250702T154443Z
UID:14074-1745107200-1745193599@lontue.com
SUMMARY:Valor UF abril de 2025
DESCRIPTION:Valor UF abril de 2025\n \n$39010\,50 pesos\nEste es el valor de la Unidad de Fomento del día\, indicado en pesos chilenos. \nConoce más sobre la UF y su comportamiento aquí en nuestro blogConoce más indicadores diarios del Banco Central de Chile aquí
URL:https://lontue.com/uf/valor-uf-abril-de-2025-20/
LOCATION:Chile\, Chile
ATTACH;FMTTYPE=image/jpeg:https://lontue.com/wp-content/uploads/2025/07/valor_uf_2025_chile_concepcion_.jpg
END:VEVENT
BEGIN:VEVENT
DTSTART;VALUE=DATE:20250421
DTEND;VALUE=DATE:20250422
DTSTAMP:20260422T184539
CREATED:20250702T154444Z
LAST-MODIFIED:20250702T154444Z
UID:14075-1745193600-1745279999@lontue.com
SUMMARY:Valor UF abril de 2025
DESCRIPTION:Valor UF abril de 2025\n \n$39016\,98 pesos\nEste es el valor de la Unidad de Fomento del día\, indicado en pesos chilenos. \nConoce más sobre la UF y su comportamiento aquí en nuestro blogConoce más indicadores diarios del Banco Central de Chile aquí
URL:https://lontue.com/uf/valor-uf-abril-de-2025-21/
LOCATION:Chile\, Chile
ATTACH;FMTTYPE=image/jpeg:https://lontue.com/wp-content/uploads/2025/07/valor_uf_2025_chile_concepcion_.jpg
END:VEVENT
BEGIN:VEVENT
DTSTART;VALUE=DATE:20250422
DTEND;VALUE=DATE:20250423
DTSTAMP:20260422T184539
CREATED:20250702T154446Z
LAST-MODIFIED:20250702T154446Z
UID:14076-1745280000-1745366399@lontue.com
SUMMARY:Valor UF abril de 2025
DESCRIPTION:Valor UF abril de 2025\n \n$39023\,47 pesos\nEste es el valor de la Unidad de Fomento del día\, indicado en pesos chilenos. \nConoce más sobre la UF y su comportamiento aquí en nuestro blogConoce más indicadores diarios del Banco Central de Chile aquí
URL:https://lontue.com/uf/valor-uf-abril-de-2025-22/
LOCATION:Chile\, Chile
ATTACH;FMTTYPE=image/jpeg:https://lontue.com/wp-content/uploads/2025/07/valor_uf_2025_chile_concepcion_.jpg
END:VEVENT
BEGIN:VEVENT
DTSTART;VALUE=DATE:20250423
DTEND;VALUE=DATE:20250424
DTSTAMP:20260422T184539
CREATED:20250702T154447Z
LAST-MODIFIED:20250702T154447Z
UID:14077-1745366400-1745452799@lontue.com
SUMMARY:Valor UF abril de 2025
DESCRIPTION:Valor UF abril de 2025\n \n$39029\,96 pesos\nEste es el valor de la Unidad de Fomento del día\, indicado en pesos chilenos. \nConoce más sobre la UF y su comportamiento aquí en nuestro blogConoce más indicadores diarios del Banco Central de Chile aquí
URL:https://lontue.com/uf/valor-uf-abril-de-2025-23/
LOCATION:Chile\, Chile
ATTACH;FMTTYPE=image/jpeg:https://lontue.com/wp-content/uploads/2025/07/valor_uf_2025_chile_concepcion_.jpg
END:VEVENT
BEGIN:VEVENT
DTSTART;VALUE=DATE:20250424
DTEND;VALUE=DATE:20250425
DTSTAMP:20260422T184539
CREATED:20250702T154448Z
LAST-MODIFIED:20250702T154448Z
UID:14078-1745452800-1745539199@lontue.com
SUMMARY:Valor UF abril de 2025
DESCRIPTION:Valor UF abril de 2025\n \n$39036\,45 pesos\nEste es el valor de la Unidad de Fomento del día\, indicado en pesos chilenos. \nConoce más sobre la UF y su comportamiento aquí en nuestro blogConoce más indicadores diarios del Banco Central de Chile aquí
URL:https://lontue.com/uf/valor-uf-abril-de-2025-24/
LOCATION:Chile\, Chile
ATTACH;FMTTYPE=image/jpeg:https://lontue.com/wp-content/uploads/2025/07/valor_uf_2025_chile_concepcion_.jpg
END:VEVENT
BEGIN:VEVENT
DTSTART;VALUE=DATE:20250425
DTEND;VALUE=DATE:20250426
DTSTAMP:20260422T184539
CREATED:20250702T154643Z
LAST-MODIFIED:20250702T154643Z
UID:14079-1745539200-1745625599@lontue.com
SUMMARY:Valor UF abril de 2025
DESCRIPTION:Valor UF abril de 2025\n \n$39042\,94 pesos\nEste es el valor de la Unidad de Fomento del día\, indicado en pesos chilenos. \nConoce más sobre la UF y su comportamiento aquí en nuestro blogConoce más indicadores diarios del Banco Central de Chile aquí
URL:https://lontue.com/uf/valor-uf-abril-de-2025-25/
LOCATION:Chile\, Chile
ATTACH;FMTTYPE=image/jpeg:https://lontue.com/wp-content/uploads/2025/07/valor_uf_2025_chile_concepcion_.jpg
END:VEVENT
BEGIN:VEVENT
DTSTART;VALUE=DATE:20250426
DTEND;VALUE=DATE:20250427
DTSTAMP:20260422T184539
CREATED:20250702T154644Z
LAST-MODIFIED:20250702T154644Z
UID:14080-1745625600-1745711999@lontue.com
SUMMARY:Valor UF abril de 2025
DESCRIPTION:Valor UF abril de 2025\n \n$39049\,43 pesos\nEste es el valor de la Unidad de Fomento del día\, indicado en pesos chilenos. \nConoce más sobre la UF y su comportamiento aquí en nuestro blogConoce más indicadores diarios del Banco Central de Chile aquí
URL:https://lontue.com/uf/valor-uf-abril-de-2025-26/
LOCATION:Chile\, Chile
ATTACH;FMTTYPE=image/jpeg:https://lontue.com/wp-content/uploads/2025/07/valor_uf_2025_chile_concepcion_.jpg
END:VEVENT
BEGIN:VEVENT
DTSTART;VALUE=DATE:20250427
DTEND;VALUE=DATE:20250428
DTSTAMP:20260422T184539
CREATED:20250702T154645Z
LAST-MODIFIED:20250702T154645Z
UID:14081-1745712000-1745798399@lontue.com
SUMMARY:Valor UF abril de 2025
DESCRIPTION:Valor UF abril de 2025\n \n$39055\,92 pesos\nEste es el valor de la Unidad de Fomento del día\, indicado en pesos chilenos. \nConoce más sobre la UF y su comportamiento aquí en nuestro blogConoce más indicadores diarios del Banco Central de Chile aquí
URL:https://lontue.com/uf/valor-uf-abril-de-2025-27/
LOCATION:Chile\, Chile
ATTACH;FMTTYPE=image/jpeg:https://lontue.com/wp-content/uploads/2025/07/valor_uf_2025_chile_concepcion_.jpg
END:VEVENT
BEGIN:VEVENT
DTSTART;VALUE=DATE:20250428
DTEND;VALUE=DATE:20250429
DTSTAMP:20260422T184539
CREATED:20250702T154646Z
LAST-MODIFIED:20250702T154646Z
UID:14082-1745798400-1745884799@lontue.com
SUMMARY:Valor UF abril de 2025
DESCRIPTION:Valor UF abril de 2025\n \n$39062\,41 pesos\nEste es el valor de la Unidad de Fomento del día\, indicado en pesos chilenos. \nConoce más sobre la UF y su comportamiento aquí en nuestro blogConoce más indicadores diarios del Banco Central de Chile aquí
URL:https://lontue.com/uf/valor-uf-abril-de-2025-28/
LOCATION:Chile\, Chile
ATTACH;FMTTYPE=image/jpeg:https://lontue.com/wp-content/uploads/2025/07/valor_uf_2025_chile_concepcion_.jpg
END:VEVENT
BEGIN:VEVENT
DTSTART;VALUE=DATE:20250429
DTEND;VALUE=DATE:20250430
DTSTAMP:20260422T184539
CREATED:20250702T154647Z
LAST-MODIFIED:20250702T154647Z
UID:14083-1745884800-1745971199@lontue.com
SUMMARY:Valor UF abril de 2025
DESCRIPTION:Valor UF abril de 2025\n \n$39068\,91 pesos\nEste es el valor de la Unidad de Fomento del día\, indicado en pesos chilenos. \nConoce más sobre la UF y su comportamiento aquí en nuestro blogConoce más indicadores diarios del Banco Central de Chile aquí
URL:https://lontue.com/uf/valor-uf-abril-de-2025-29/
LOCATION:Chile\, Chile
ATTACH;FMTTYPE=image/jpeg:https://lontue.com/wp-content/uploads/2025/07/valor_uf_2025_chile_concepcion_.jpg
END:VEVENT
BEGIN:VEVENT
DTSTART;VALUE=DATE:20250430
DTEND;VALUE=DATE:20250501
DTSTAMP:20260422T184539
CREATED:20250702T154845Z
LAST-MODIFIED:20250702T154845Z
UID:14084-1745971200-1746057599@lontue.com
SUMMARY:Valor UF abril de 2025
DESCRIPTION:Valor UF abril de 2025\n \n$39075\,41 pesos\nEste es el valor de la Unidad de Fomento del día\, indicado en pesos chilenos. \nConoce más sobre la UF y su comportamiento aquí en nuestro blogConoce más indicadores diarios del Banco Central de Chile aquí
URL:https://lontue.com/uf/valor-uf-abril-de-2025-30/
LOCATION:Chile\, Chile
ATTACH;FMTTYPE=image/jpeg:https://lontue.com/wp-content/uploads/2025/07/valor_uf_2025_chile_concepcion_.jpg
END:VEVENT
END:VCALENDAR