BEGIN:VCALENDAR
VERSION:2.0
PRODID:-//Inmobiliaria Lontue - ECPv6.15.17//NONSGML v1.0//EN
CALSCALE:GREGORIAN
METHOD:PUBLISH
X-WR-CALNAME:Inmobiliaria Lontue
X-ORIGINAL-URL:https://lontue.com
X-WR-CALDESC:Eventos para Inmobiliaria Lontue
REFRESH-INTERVAL;VALUE=DURATION:PT1H
X-Robots-Tag:noindex
X-PUBLISHED-TTL:PT1H
BEGIN:VTIMEZONE
TZID:America/Lima
BEGIN:STANDARD
TZOFFSETFROM:-0500
TZOFFSETTO:-0500
TZNAME:-05
DTSTART:20240101T000000
END:STANDARD
END:VTIMEZONE
BEGIN:VEVENT
DTSTART;VALUE=DATE:20250127
DTEND;VALUE=DATE:20250128
DTSTAMP:20260424T130525
CREATED:20250312T133745Z
LAST-MODIFIED:20250312T194403Z
UID:13396-1737936000-1738022399@lontue.com
SUMMARY:Valor UF enero de 2025
DESCRIPTION:Valor UF enero de 2025\n \n$38394\,32 pesos\nEste es el valor de la Unidad de Fomento del día\, indicado en pesos chilenos. \nConoce más sobre la UF y su comportamiento aquí en nuestro blogConoce más indicadores diarios del Banco Central de Chile aquí
URL:https://lontue.com/uf/valor-uf-enero-de-2025-27/
LOCATION:Chile\, Chile
ATTACH;FMTTYPE=image/jpeg:https://lontue.com/wp-content/uploads/2025/03/valor_uf_2025_chile_concepcion.jpg
END:VEVENT
BEGIN:VEVENT
DTSTART;VALUE=DATE:20250128
DTEND;VALUE=DATE:20250129
DTSTAMP:20260424T130525
CREATED:20250312T133746Z
LAST-MODIFIED:20250312T194404Z
UID:13397-1738022400-1738108799@lontue.com
SUMMARY:Valor UF enero de 2025
DESCRIPTION:Valor UF enero de 2025\n \n$38391\,84 pesos\nEste es el valor de la Unidad de Fomento del día\, indicado en pesos chilenos. \nConoce más sobre la UF y su comportamiento aquí en nuestro blogConoce más indicadores diarios del Banco Central de Chile aquí
URL:https://lontue.com/uf/valor-uf-enero-de-2025-28/
LOCATION:Chile\, Chile
ATTACH;FMTTYPE=image/jpeg:https://lontue.com/wp-content/uploads/2025/03/valor_uf_2025_chile_concepcion.jpg
END:VEVENT
BEGIN:VEVENT
DTSTART;VALUE=DATE:20250129
DTEND;VALUE=DATE:20250130
DTSTAMP:20260424T130525
CREATED:20250312T195116Z
LAST-MODIFIED:20250312T195116Z
UID:13450-1738108800-1738195199@lontue.com
SUMMARY:Valor UF enero de 2025
DESCRIPTION:Valor UF enero de 2025\n \n$38389\,36 pesos\nEste es el valor de la Unidad de Fomento del día\, indicado en pesos chilenos. \nConoce más sobre la UF y su comportamiento aquí en nuestro blogConoce más indicadores diarios del Banco Central de Chile aquí
URL:https://lontue.com/uf/valor-uf-enero-de-2025-29/
LOCATION:Chile\, Chile
ATTACH;FMTTYPE=image/jpeg:https://lontue.com/wp-content/uploads/2025/03/valor_uf_2025_chile_concepcion.jpg
END:VEVENT
BEGIN:VEVENT
DTSTART;VALUE=DATE:20250130
DTEND;VALUE=DATE:20250131
DTSTAMP:20260424T130525
CREATED:20250312T195118Z
LAST-MODIFIED:20250312T195118Z
UID:13451-1738195200-1738281599@lontue.com
SUMMARY:Valor UF enero de 2025
DESCRIPTION:Valor UF enero de 2025\n \n$38386\,88 pesos\nEste es el valor de la Unidad de Fomento del día\, indicado en pesos chilenos. \nConoce más sobre la UF y su comportamiento aquí en nuestro blogConoce más indicadores diarios del Banco Central de Chile aquí
URL:https://lontue.com/uf/valor-uf-enero-de-2025-30/
LOCATION:Chile\, Chile
ATTACH;FMTTYPE=image/jpeg:https://lontue.com/wp-content/uploads/2025/03/valor_uf_2025_chile_concepcion.jpg
END:VEVENT
BEGIN:VEVENT
DTSTART;VALUE=DATE:20250131
DTEND;VALUE=DATE:20250201
DTSTAMP:20260424T130525
CREATED:20250312T195119Z
LAST-MODIFIED:20250312T195119Z
UID:13452-1738281600-1738367999@lontue.com
SUMMARY:Valor UF enero de 2025
DESCRIPTION:Valor UF enero de 2025\n \n$38384\,41 pesos\nEste es el valor de la Unidad de Fomento del día\, indicado en pesos chilenos. \nConoce más sobre la UF y su comportamiento aquí en nuestro blogConoce más indicadores diarios del Banco Central de Chile aquí
URL:https://lontue.com/uf/valor-uf-enero-de-2025-31/
LOCATION:Chile\, Chile
ATTACH;FMTTYPE=image/jpeg:https://lontue.com/wp-content/uploads/2025/03/valor_uf_2025_chile_concepcion.jpg
END:VEVENT
BEGIN:VEVENT
DTSTART;VALUE=DATE:20250201
DTEND;VALUE=DATE:20250202
DTSTAMP:20260424T130525
CREATED:20250312T195119Z
LAST-MODIFIED:20250312T195119Z
UID:13453-1738368000-1738454399@lontue.com
SUMMARY:Valor UF febrero de 2025
DESCRIPTION:Valor UF febrero de 2025\n \n$38381\,93 pesos\nEste es el valor de la Unidad de Fomento del día\, indicado en pesos chilenos. \nConoce más sobre la UF y su comportamiento aquí en nuestro blogConoce más indicadores diarios del Banco Central de Chile aquí
URL:https://lontue.com/uf/valor-uf-febrero-de-2025/
LOCATION:Chile\, Chile
ATTACH;FMTTYPE=image/jpeg:https://lontue.com/wp-content/uploads/2025/03/valor_uf_2025_chile_concepcion.jpg
END:VEVENT
BEGIN:VEVENT
DTSTART;VALUE=DATE:20250202
DTEND;VALUE=DATE:20250203
DTSTAMP:20260424T130525
CREATED:20250312T195120Z
LAST-MODIFIED:20250312T195120Z
UID:13454-1738454400-1738540799@lontue.com
SUMMARY:Valor UF febrero de 2025
DESCRIPTION:Valor UF febrero de 2025\n \n$38379\,45 pesos\nEste es el valor de la Unidad de Fomento del día\, indicado en pesos chilenos. \nConoce más sobre la UF y su comportamiento aquí en nuestro blogConoce más indicadores diarios del Banco Central de Chile aquí
URL:https://lontue.com/uf/valor-uf-febrero-de-2025-2/
LOCATION:Chile\, Chile
ATTACH;FMTTYPE=image/jpeg:https://lontue.com/wp-content/uploads/2025/03/valor_uf_2025_chile_concepcion.jpg
END:VEVENT
BEGIN:VEVENT
DTSTART;VALUE=DATE:20250203
DTEND;VALUE=DATE:20250204
DTSTAMP:20260424T130525
CREATED:20250312T201037Z
LAST-MODIFIED:20250312T201037Z
UID:13462-1738540800-1738627199@lontue.com
SUMMARY:Valor UF febrero de 2025
DESCRIPTION:Valor UF febrero de 2025\n \n$38376\,97 pesos\nEste es el valor de la Unidad de Fomento del día\, indicado en pesos chilenos. \nConoce más sobre la UF y su comportamiento aquí en nuestro blogConoce más indicadores diarios del Banco Central de Chile aquí
URL:https://lontue.com/uf/valor-uf-febrero-de-2025-3/
LOCATION:Chile\, Chile
ATTACH;FMTTYPE=image/jpeg:https://lontue.com/wp-content/uploads/2025/03/valor_uf_2025_chile_concepcion.jpg
END:VEVENT
BEGIN:VEVENT
DTSTART;VALUE=DATE:20250204
DTEND;VALUE=DATE:20250205
DTSTAMP:20260424T130525
CREATED:20250312T201038Z
LAST-MODIFIED:20250312T201038Z
UID:13463-1738627200-1738713599@lontue.com
SUMMARY:Valor UF febrero de 2025
DESCRIPTION:Valor UF febrero de 2025\n \n$38374\,49 pesos\nEste es el valor de la Unidad de Fomento del día\, indicado en pesos chilenos. \nConoce más sobre la UF y su comportamiento aquí en nuestro blogConoce más indicadores diarios del Banco Central de Chile aquí
URL:https://lontue.com/uf/valor-uf-febrero-de-2025-4/
LOCATION:Chile\, Chile
ATTACH;FMTTYPE=image/jpeg:https://lontue.com/wp-content/uploads/2025/03/valor_uf_2025_chile_concepcion.jpg
END:VEVENT
BEGIN:VEVENT
DTSTART;VALUE=DATE:20250205
DTEND;VALUE=DATE:20250206
DTSTAMP:20260424T130525
CREATED:20250312T201039Z
LAST-MODIFIED:20250312T201039Z
UID:13464-1738713600-1738799999@lontue.com
SUMMARY:Valor UF febrero de 2025
DESCRIPTION:Valor UF febrero de 2025\n \n$38372\,01 pesos\nEste es el valor de la Unidad de Fomento del día\, indicado en pesos chilenos. \nConoce más sobre la UF y su comportamiento aquí en nuestro blogConoce más indicadores diarios del Banco Central de Chile aquí
URL:https://lontue.com/uf/valor-uf-febrero-de-2025-5/
LOCATION:Chile\, Chile
ATTACH;FMTTYPE=image/jpeg:https://lontue.com/wp-content/uploads/2025/03/valor_uf_2025_chile_concepcion.jpg
END:VEVENT
BEGIN:VEVENT
DTSTART;VALUE=DATE:20250206
DTEND;VALUE=DATE:20250207
DTSTAMP:20260424T130525
CREATED:20250312T201040Z
LAST-MODIFIED:20250312T201040Z
UID:13465-1738800000-1738886399@lontue.com
SUMMARY:Valor UF febrero de 2025
DESCRIPTION:Valor UF febrero de 2025\n \n$38369\,54 pesos\nEste es el valor de la Unidad de Fomento del día\, indicado en pesos chilenos. \nConoce más sobre la UF y su comportamiento aquí en nuestro blogConoce más indicadores diarios del Banco Central de Chile aquí
URL:https://lontue.com/uf/valor-uf-febrero-de-2025-6/
LOCATION:Chile\, Chile
ATTACH;FMTTYPE=image/jpeg:https://lontue.com/wp-content/uploads/2025/03/valor_uf_2025_chile_concepcion.jpg
END:VEVENT
BEGIN:VEVENT
DTSTART;VALUE=DATE:20250207
DTEND;VALUE=DATE:20250208
DTSTAMP:20260424T130525
CREATED:20250312T201041Z
LAST-MODIFIED:20250312T201041Z
UID:13466-1738886400-1738972799@lontue.com
SUMMARY:Valor UF febrero de 2025
DESCRIPTION:Valor UF febrero de 2025\n \n$38367\,06 pesos\nEste es el valor de la Unidad de Fomento del día\, indicado en pesos chilenos. \nConoce más sobre la UF y su comportamiento aquí en nuestro blogConoce más indicadores diarios del Banco Central de Chile aquí
URL:https://lontue.com/uf/valor-uf-febrero-de-2025-7/
LOCATION:Chile\, Chile
ATTACH;FMTTYPE=image/jpeg:https://lontue.com/wp-content/uploads/2025/03/valor_uf_2025_chile_concepcion.jpg
END:VEVENT
BEGIN:VEVENT
DTSTART;VALUE=DATE:20250208
DTEND;VALUE=DATE:20250209
DTSTAMP:20260424T130525
CREATED:20250312T201053Z
LAST-MODIFIED:20250312T201053Z
UID:13467-1738972800-1739059199@lontue.com
SUMMARY:Valor UF febrero de 2025
DESCRIPTION:Valor UF febrero de 2025\n \n$38364\,58 pesos\nEste es el valor de la Unidad de Fomento del día\, indicado en pesos chilenos. \nConoce más sobre la UF y su comportamiento aquí en nuestro blogConoce más indicadores diarios del Banco Central de Chile aquí
URL:https://lontue.com/uf/valor-uf-febrero-de-2025-8/
LOCATION:Chile\, Chile
ATTACH;FMTTYPE=image/jpeg:https://lontue.com/wp-content/uploads/2025/03/valor_uf_2025_chile_concepcion.jpg
END:VEVENT
BEGIN:VEVENT
DTSTART;VALUE=DATE:20250209
DTEND;VALUE=DATE:20250210
DTSTAMP:20260424T130525
CREATED:20250312T201054Z
LAST-MODIFIED:20250312T201054Z
UID:13468-1739059200-1739145599@lontue.com
SUMMARY:Valor UF febrero de 2025
DESCRIPTION:Valor UF febrero de 2025\n \n$38362\,10 pesos\nEste es el valor de la Unidad de Fomento del día\, indicado en pesos chilenos. \nConoce más sobre la UF y su comportamiento aquí en nuestro blogConoce más indicadores diarios del Banco Central de Chile aquí
URL:https://lontue.com/uf/valor-uf-febrero-de-2025-9/
LOCATION:Chile\, Chile
ATTACH;FMTTYPE=image/jpeg:https://lontue.com/wp-content/uploads/2025/03/valor_uf_2025_chile_concepcion.jpg
END:VEVENT
BEGIN:VEVENT
DTSTART;VALUE=DATE:20250210
DTEND;VALUE=DATE:20250211
DTSTAMP:20260424T130525
CREATED:20250312T201055Z
LAST-MODIFIED:20250312T201055Z
UID:13469-1739145600-1739231999@lontue.com
SUMMARY:Valor UF febrero de 2025
DESCRIPTION:Valor UF febrero de 2025\n \n$38377\,09 pesos\nEste es el valor de la Unidad de Fomento del día\, indicado en pesos chilenos. \nConoce más sobre la UF y su comportamiento aquí en nuestro blogConoce más indicadores diarios del Banco Central de Chile aquí
URL:https://lontue.com/uf/valor-uf-febrero-de-2025-10/
LOCATION:Chile\, Chile
ATTACH;FMTTYPE=image/jpeg:https://lontue.com/wp-content/uploads/2025/03/valor_uf_2025_chile_concepcion.jpg
END:VEVENT
BEGIN:VEVENT
DTSTART;VALUE=DATE:20250211
DTEND;VALUE=DATE:20250212
DTSTAMP:20260424T130525
CREATED:20250312T201056Z
LAST-MODIFIED:20250312T201056Z
UID:13470-1739232000-1739318399@lontue.com
SUMMARY:Valor UF febrero de 2025
DESCRIPTION:Valor UF febrero de 2025\n \n$38392\,09 pesos\nEste es el valor de la Unidad de Fomento del día\, indicado en pesos chilenos. \nConoce más sobre la UF y su comportamiento aquí en nuestro blogConoce más indicadores diarios del Banco Central de Chile aquí
URL:https://lontue.com/uf/valor-uf-febrero-de-2025-11/
LOCATION:Chile\, Chile
ATTACH;FMTTYPE=image/jpeg:https://lontue.com/wp-content/uploads/2025/03/valor_uf_2025_chile_concepcion.jpg
END:VEVENT
BEGIN:VEVENT
DTSTART;VALUE=DATE:20250212
DTEND;VALUE=DATE:20250213
DTSTAMP:20260424T130525
CREATED:20250312T201057Z
LAST-MODIFIED:20250312T201057Z
UID:13471-1739318400-1739404799@lontue.com
SUMMARY:Valor UF febrero de 2025
DESCRIPTION:Valor UF febrero de 2025\n \n$38407\,09 pesos\nEste es el valor de la Unidad de Fomento del día\, indicado en pesos chilenos. \nConoce más sobre la UF y su comportamiento aquí en nuestro blogConoce más indicadores diarios del Banco Central de Chile aquí
URL:https://lontue.com/uf/valor-uf-febrero-de-2025-12/
LOCATION:Chile\, Chile
ATTACH;FMTTYPE=image/jpeg:https://lontue.com/wp-content/uploads/2025/03/valor_uf_2025_chile_concepcion.jpg
END:VEVENT
BEGIN:VEVENT
DTSTART;VALUE=DATE:20250213
DTEND;VALUE=DATE:20250214
DTSTAMP:20260424T130525
CREATED:20250312T201237Z
LAST-MODIFIED:20250312T201237Z
UID:13472-1739404800-1739491199@lontue.com
SUMMARY:Valor UF febrero de 2025
DESCRIPTION:Valor UF febrero de 2025\n \n$38422\,10 pesos\nEste es el valor de la Unidad de Fomento del día\, indicado en pesos chilenos. \nConoce más sobre la UF y su comportamiento aquí en nuestro blogConoce más indicadores diarios del Banco Central de Chile aquí
URL:https://lontue.com/uf/valor-uf-febrero-de-2025-13/
LOCATION:Chile\, Chile
ATTACH;FMTTYPE=image/jpeg:https://lontue.com/wp-content/uploads/2025/03/valor_uf_2025_chile_concepcion.jpg
END:VEVENT
BEGIN:VEVENT
DTSTART;VALUE=DATE:20250214
DTEND;VALUE=DATE:20250215
DTSTAMP:20260424T130525
CREATED:20250312T201238Z
LAST-MODIFIED:20250312T201238Z
UID:13473-1739491200-1739577599@lontue.com
SUMMARY:Valor UF febrero de 2025
DESCRIPTION:Valor UF febrero de 2025\n \n$38437\,12 pesos\nEste es el valor de la Unidad de Fomento del día\, indicado en pesos chilenos. \nConoce más sobre la UF y su comportamiento aquí en nuestro blogConoce más indicadores diarios del Banco Central de Chile aquí
URL:https://lontue.com/uf/valor-uf-febrero-de-2025-14/
LOCATION:Chile\, Chile
ATTACH;FMTTYPE=image/jpeg:https://lontue.com/wp-content/uploads/2025/03/valor_uf_2025_chile_concepcion.jpg
END:VEVENT
BEGIN:VEVENT
DTSTART;VALUE=DATE:20250215
DTEND;VALUE=DATE:20250216
DTSTAMP:20260424T130525
CREATED:20250312T201239Z
LAST-MODIFIED:20250312T201239Z
UID:13474-1739577600-1739663999@lontue.com
SUMMARY:Valor UF febrero de 2025
DESCRIPTION:Valor UF febrero de 2025\n \n$38452\,14 pesos\nEste es el valor de la Unidad de Fomento del día\, indicado en pesos chilenos. \nConoce más sobre la UF y su comportamiento aquí en nuestro blogConoce más indicadores diarios del Banco Central de Chile aquí
URL:https://lontue.com/uf/valor-uf-febrero-de-2025-15/
LOCATION:Chile\, Chile
ATTACH;FMTTYPE=image/jpeg:https://lontue.com/wp-content/uploads/2025/03/valor_uf_2025_chile_concepcion.jpg
END:VEVENT
BEGIN:VEVENT
DTSTART;VALUE=DATE:20250216
DTEND;VALUE=DATE:20250217
DTSTAMP:20260424T130525
CREATED:20250312T201241Z
LAST-MODIFIED:20250312T201241Z
UID:13475-1739664000-1739750399@lontue.com
SUMMARY:Valor UF febrero de 2025
DESCRIPTION:Valor UF febrero de 2025\n \n$38467\,16 pesos\nEste es el valor de la Unidad de Fomento del día\, indicado en pesos chilenos. \nConoce más sobre la UF y su comportamiento aquí en nuestro blogConoce más indicadores diarios del Banco Central de Chile aquí
URL:https://lontue.com/uf/valor-uf-febrero-de-2025-16/
LOCATION:Chile\, Chile
ATTACH;FMTTYPE=image/jpeg:https://lontue.com/wp-content/uploads/2025/03/valor_uf_2025_chile_concepcion.jpg
END:VEVENT
BEGIN:VEVENT
DTSTART;VALUE=DATE:20250217
DTEND;VALUE=DATE:20250218
DTSTAMP:20260424T130525
CREATED:20250312T201242Z
LAST-MODIFIED:20250312T201242Z
UID:13476-1739750400-1739836799@lontue.com
SUMMARY:Valor UF febrero de 2025
DESCRIPTION:Valor UF febrero de 2025\n \n$38482\,20 pesos\nEste es el valor de la Unidad de Fomento del día\, indicado en pesos chilenos. \nConoce más sobre la UF y su comportamiento aquí en nuestro blogConoce más indicadores diarios del Banco Central de Chile aquí
URL:https://lontue.com/uf/valor-uf-febrero-de-2025-17/
LOCATION:Chile\, Chile
ATTACH;FMTTYPE=image/jpeg:https://lontue.com/wp-content/uploads/2025/03/valor_uf_2025_chile_concepcion.jpg
END:VEVENT
BEGIN:VEVENT
DTSTART;VALUE=DATE:20250218
DTEND;VALUE=DATE:20250219
DTSTAMP:20260424T130525
CREATED:20250312T201251Z
LAST-MODIFIED:20250312T201251Z
UID:13477-1739836800-1739923199@lontue.com
SUMMARY:Valor UF febrero de 2025
DESCRIPTION:Valor UF febrero de 2025\n \n$38497\,23 pesos\nEste es el valor de la Unidad de Fomento del día\, indicado en pesos chilenos. \nConoce más sobre la UF y su comportamiento aquí en nuestro blogConoce más indicadores diarios del Banco Central de Chile aquí
URL:https://lontue.com/uf/valor-uf-febrero-de-2025-18/
LOCATION:Chile\, Chile
ATTACH;FMTTYPE=image/jpeg:https://lontue.com/wp-content/uploads/2025/03/valor_uf_2025_chile_concepcion.jpg
END:VEVENT
BEGIN:VEVENT
DTSTART;VALUE=DATE:20250219
DTEND;VALUE=DATE:20250220
DTSTAMP:20260424T130525
CREATED:20250312T201252Z
LAST-MODIFIED:20250312T201252Z
UID:13478-1739923200-1740009599@lontue.com
SUMMARY:Valor UF febrero de 2025
DESCRIPTION:Valor UF febrero de 2025\n \n$38512\,28 pesos\nEste es el valor de la Unidad de Fomento del día\, indicado en pesos chilenos. \nConoce más sobre la UF y su comportamiento aquí en nuestro blogConoce más indicadores diarios del Banco Central de Chile aquí
URL:https://lontue.com/uf/valor-uf-febrero-de-2025-19/
LOCATION:Chile\, Chile
ATTACH;FMTTYPE=image/jpeg:https://lontue.com/wp-content/uploads/2025/03/valor_uf_2025_chile_concepcion.jpg
END:VEVENT
BEGIN:VEVENT
DTSTART;VALUE=DATE:20250220
DTEND;VALUE=DATE:20250221
DTSTAMP:20260424T130525
CREATED:20250312T201253Z
LAST-MODIFIED:20250312T201253Z
UID:13479-1740009600-1740095999@lontue.com
SUMMARY:Valor UF febrero de 2025
DESCRIPTION:Valor UF febrero de 2025\n \n$38527\,33 pesos\nEste es el valor de la Unidad de Fomento del día\, indicado en pesos chilenos. \nConoce más sobre la UF y su comportamiento aquí en nuestro blogConoce más indicadores diarios del Banco Central de Chile aquí
URL:https://lontue.com/uf/valor-uf-febrero-de-2025-20/
LOCATION:Chile\, Chile
ATTACH;FMTTYPE=image/jpeg:https://lontue.com/wp-content/uploads/2025/03/valor_uf_2025_chile_concepcion.jpg
END:VEVENT
BEGIN:VEVENT
DTSTART;VALUE=DATE:20250221
DTEND;VALUE=DATE:20250222
DTSTAMP:20260424T130525
CREATED:20250312T201254Z
LAST-MODIFIED:20250312T201254Z
UID:13480-1740096000-1740182399@lontue.com
SUMMARY:Valor UF febrero de 2025
DESCRIPTION:Valor UF febrero de 2025\n \n$38542\,38 pesos\nEste es el valor de la Unidad de Fomento del día\, indicado en pesos chilenos. \nConoce más sobre la UF y su comportamiento aquí en nuestro blogConoce más indicadores diarios del Banco Central de Chile aquí
URL:https://lontue.com/uf/valor-uf-febrero-de-2025-21/
LOCATION:Chile\, Chile
ATTACH;FMTTYPE=image/jpeg:https://lontue.com/wp-content/uploads/2025/03/valor_uf_2025_chile_concepcion.jpg
END:VEVENT
BEGIN:VEVENT
DTSTART;VALUE=DATE:20250222
DTEND;VALUE=DATE:20250223
DTSTAMP:20260424T130525
CREATED:20250312T201256Z
LAST-MODIFIED:20250312T201256Z
UID:13481-1740182400-1740268799@lontue.com
SUMMARY:Valor UF febrero de 2025
DESCRIPTION:Valor UF febrero de 2025\n \n$38557\,45 pesos\nEste es el valor de la Unidad de Fomento del día\, indicado en pesos chilenos. \nConoce más sobre la UF y su comportamiento aquí en nuestro blogConoce más indicadores diarios del Banco Central de Chile aquí
URL:https://lontue.com/uf/valor-uf-febrero-de-2025-22/
LOCATION:Chile\, Chile
ATTACH;FMTTYPE=image/jpeg:https://lontue.com/wp-content/uploads/2025/03/valor_uf_2025_chile_concepcion.jpg
END:VEVENT
BEGIN:VEVENT
DTSTART;VALUE=DATE:20250223
DTEND;VALUE=DATE:20250224
DTSTAMP:20260424T130525
CREATED:20250312T201312Z
LAST-MODIFIED:20250312T201312Z
UID:13482-1740268800-1740355199@lontue.com
SUMMARY:Valor UF febrero de 2025
DESCRIPTION:Valor UF febrero de 2025\n \n$38572\,51 pesos\nEste es el valor de la Unidad de Fomento del día\, indicado en pesos chilenos. \nConoce más sobre la UF y su comportamiento aquí en nuestro blogConoce más indicadores diarios del Banco Central de Chile aquí
URL:https://lontue.com/uf/valor-uf-febrero-de-2025-23/
LOCATION:Chile\, Chile
ATTACH;FMTTYPE=image/jpeg:https://lontue.com/wp-content/uploads/2025/03/valor_uf_2025_chile_concepcion.jpg
END:VEVENT
BEGIN:VEVENT
DTSTART;VALUE=DATE:20250224
DTEND;VALUE=DATE:20250225
DTSTAMP:20260424T130525
CREATED:20250312T201313Z
LAST-MODIFIED:20250312T201313Z
UID:13483-1740355200-1740441599@lontue.com
SUMMARY:Valor UF febrero de 2025
DESCRIPTION:Valor UF febrero de 2025\n \n$38587\,59 pesos\nEste es el valor de la Unidad de Fomento del día\, indicado en pesos chilenos. \nConoce más sobre la UF y su comportamiento aquí en nuestro blogConoce más indicadores diarios del Banco Central de Chile aquí
URL:https://lontue.com/uf/valor-uf-febrero-de-2025-24/
LOCATION:Chile\, Chile
ATTACH;FMTTYPE=image/jpeg:https://lontue.com/wp-content/uploads/2025/03/valor_uf_2025_chile_concepcion.jpg
END:VEVENT
BEGIN:VEVENT
DTSTART;VALUE=DATE:20250225
DTEND;VALUE=DATE:20250226
DTSTAMP:20260424T130525
CREATED:20250312T201314Z
LAST-MODIFIED:20250312T201314Z
UID:13484-1740441600-1740527999@lontue.com
SUMMARY:Valor UF febrero de 2025
DESCRIPTION:Valor UF febrero de 2025\n \n$38602\,67 pesos\nEste es el valor de la Unidad de Fomento del día\, indicado en pesos chilenos. \nConoce más sobre la UF y su comportamiento aquí en nuestro blogConoce más indicadores diarios del Banco Central de Chile aquí
URL:https://lontue.com/uf/valor-uf-febrero-de-2025-25/
LOCATION:Chile\, Chile
ATTACH;FMTTYPE=image/jpeg:https://lontue.com/wp-content/uploads/2025/03/valor_uf_2025_chile_concepcion.jpg
END:VEVENT
END:VCALENDAR