BEGIN:VCALENDAR
VERSION:2.0
PRODID:-//Inmobiliaria Lontue - ECPv6.15.17//NONSGML v1.0//EN
CALSCALE:GREGORIAN
METHOD:PUBLISH
X-WR-CALNAME:Inmobiliaria Lontue
X-ORIGINAL-URL:https://lontue.com
X-WR-CALDESC:Eventos para Inmobiliaria Lontue
REFRESH-INTERVAL;VALUE=DURATION:PT1H
X-Robots-Tag:noindex
X-PUBLISHED-TTL:PT1H
BEGIN:VTIMEZONE
TZID:America/Lima
BEGIN:STANDARD
TZOFFSETFROM:-0500
TZOFFSETTO:-0500
TZNAME:-05
DTSTART:20230101T000000
END:STANDARD
END:VTIMEZONE
BEGIN:VEVENT
DTSTART;VALUE=DATE:20241010
DTEND;VALUE=DATE:20241011
DTSTAMP:20260424T200157
CREATED:20241010T104520Z
LAST-MODIFIED:20241010T104520Z
UID:12940-1728518400-1728604799@lontue.com
SUMMARY:Valor UF octubre de 2024
DESCRIPTION:Valor UF octubre de 2024\n \n$37945.72 pesos\nEste es el valor de la Unidad de Fomento del día\, indicado en pesos chilenos. \nConoce más sobre la UF y su comportamiento aquí en nuestro blogConoce más indicadores diarios del Banco Central de Chile aquí
URL:https://lontue.com/uf/valor-uf-octubre-de-2024-10/
LOCATION:Chile\, Chile
ATTACH;FMTTYPE=image/jpeg:https://lontue.com/wp-content/uploads/2024/10/Valor-UF-septiembre-2024-Chile-Concepcion.jpg
END:VEVENT
BEGIN:VEVENT
DTSTART;VALUE=DATE:20241011
DTEND;VALUE=DATE:20241012
DTSTAMP:20260424T200157
CREATED:20241010T104521Z
LAST-MODIFIED:20241010T104521Z
UID:12941-1728604800-1728691199@lontue.com
SUMMARY:Valor UF octubre de 2024
DESCRIPTION:Valor UF octubre de 2024\n \n$37946.95 pesos\nEste es el valor de la Unidad de Fomento del día\, indicado en pesos chilenos. \nConoce más sobre la UF y su comportamiento aquí en nuestro blogConoce más indicadores diarios del Banco Central de Chile aquí
URL:https://lontue.com/uf/valor-uf-octubre-de-2024-11/
LOCATION:Chile\, Chile
ATTACH;FMTTYPE=image/jpeg:https://lontue.com/wp-content/uploads/2024/10/Valor-UF-septiembre-2024-Chile-Concepcion.jpg
END:VEVENT
BEGIN:VEVENT
DTSTART;VALUE=DATE:20241012
DTEND;VALUE=DATE:20241013
DTSTAMP:20260424T200157
CREATED:20241010T104522Z
LAST-MODIFIED:20241010T104522Z
UID:12942-1728691200-1728777599@lontue.com
SUMMARY:Valor UF octubre de 2024
DESCRIPTION:Valor UF octubre de 2024\n \n$37948.17 pesos\nEste es el valor de la Unidad de Fomento del día\, indicado en pesos chilenos. \nConoce más sobre la UF y su comportamiento aquí en nuestro blogConoce más indicadores diarios del Banco Central de Chile aquí
URL:https://lontue.com/uf/valor-uf-octubre-de-2024-12/
LOCATION:Chile\, Chile
ATTACH;FMTTYPE=image/jpeg:https://lontue.com/wp-content/uploads/2024/10/Valor-UF-septiembre-2024-Chile-Concepcion.jpg
END:VEVENT
BEGIN:VEVENT
DTSTART;VALUE=DATE:20241013
DTEND;VALUE=DATE:20241014
DTSTAMP:20260424T200157
CREATED:20241010T104524Z
LAST-MODIFIED:20241010T104524Z
UID:12943-1728777600-1728863999@lontue.com
SUMMARY:Valor UF octubre de 2024
DESCRIPTION:Valor UF octubre de 2024\n \n$37949.39 pesos\nEste es el valor de la Unidad de Fomento del día\, indicado en pesos chilenos. \nConoce más sobre la UF y su comportamiento aquí en nuestro blogConoce más indicadores diarios del Banco Central de Chile aquí
URL:https://lontue.com/uf/valor-uf-octubre-de-2024-13/
LOCATION:Chile\, Chile
ATTACH;FMTTYPE=image/jpeg:https://lontue.com/wp-content/uploads/2024/10/Valor-UF-septiembre-2024-Chile-Concepcion.jpg
END:VEVENT
BEGIN:VEVENT
DTSTART;VALUE=DATE:20241014
DTEND;VALUE=DATE:20241015
DTSTAMP:20260424T200157
CREATED:20241010T104525Z
LAST-MODIFIED:20241010T104525Z
UID:12944-1728864000-1728950399@lontue.com
SUMMARY:Valor UF octubre de 2024
DESCRIPTION:Valor UF octubre de 2024\n \n$37950.62 pesos\nEste es el valor de la Unidad de Fomento del día\, indicado en pesos chilenos. \nConoce más sobre la UF y su comportamiento aquí en nuestro blogConoce más indicadores diarios del Banco Central de Chile aquí
URL:https://lontue.com/uf/valor-uf-octubre-de-2024-14/
LOCATION:Chile\, Chile
ATTACH;FMTTYPE=image/jpeg:https://lontue.com/wp-content/uploads/2024/10/Valor-UF-septiembre-2024-Chile-Concepcion.jpg
END:VEVENT
BEGIN:VEVENT
DTSTART;VALUE=DATE:20241015
DTEND;VALUE=DATE:20241016
DTSTAMP:20260424T200157
CREATED:20241010T104529Z
LAST-MODIFIED:20241010T104529Z
UID:12945-1728950400-1729036799@lontue.com
SUMMARY:Valor UF octubre de 2024
DESCRIPTION:Valor UF octubre de 2024\n \n$37951.84 pesos\nEste es el valor de la Unidad de Fomento del día\, indicado en pesos chilenos. \nConoce más sobre la UF y su comportamiento aquí en nuestro blogConoce más indicadores diarios del Banco Central de Chile aquí
URL:https://lontue.com/uf/valor-uf-octubre-de-2024-15/
LOCATION:Chile\, Chile
ATTACH;FMTTYPE=image/jpeg:https://lontue.com/wp-content/uploads/2024/10/Valor-UF-septiembre-2024-Chile-Concepcion.jpg
END:VEVENT
BEGIN:VEVENT
DTSTART;VALUE=DATE:20241016
DTEND;VALUE=DATE:20241017
DTSTAMP:20260424T200157
CREATED:20241010T104531Z
LAST-MODIFIED:20241010T104531Z
UID:12946-1729036800-1729123199@lontue.com
SUMMARY:Valor UF octubre de 2024
DESCRIPTION:Valor UF octubre de 2024\n \n$37953.06 pesos\nEste es el valor de la Unidad de Fomento del día\, indicado en pesos chilenos. \nConoce más sobre la UF y su comportamiento aquí en nuestro blogConoce más indicadores diarios del Banco Central de Chile aquí
URL:https://lontue.com/uf/valor-uf-octubre-de-2024-16/
LOCATION:Chile\, Chile
ATTACH;FMTTYPE=image/jpeg:https://lontue.com/wp-content/uploads/2024/10/Valor-UF-septiembre-2024-Chile-Concepcion.jpg
END:VEVENT
BEGIN:VEVENT
DTSTART;VALUE=DATE:20241017
DTEND;VALUE=DATE:20241018
DTSTAMP:20260424T200157
CREATED:20241010T104532Z
LAST-MODIFIED:20241010T104532Z
UID:12947-1729123200-1729209599@lontue.com
SUMMARY:Valor UF octubre de 2024
DESCRIPTION:Valor UF octubre de 2024\n \n$37954.29 pesos\nEste es el valor de la Unidad de Fomento del día\, indicado en pesos chilenos. \nConoce más sobre la UF y su comportamiento aquí en nuestro blogConoce más indicadores diarios del Banco Central de Chile aquí
URL:https://lontue.com/uf/valor-uf-octubre-de-2024-17/
LOCATION:Chile\, Chile
ATTACH;FMTTYPE=image/jpeg:https://lontue.com/wp-content/uploads/2024/10/Valor-UF-septiembre-2024-Chile-Concepcion.jpg
END:VEVENT
BEGIN:VEVENT
DTSTART;VALUE=DATE:20241018
DTEND;VALUE=DATE:20241019
DTSTAMP:20260424T200157
CREATED:20241010T104533Z
LAST-MODIFIED:20241010T104533Z
UID:12948-1729209600-1729295999@lontue.com
SUMMARY:Valor UF octubre de 2024
DESCRIPTION:Valor UF octubre de 2024\n \n$37955.51 pesos\nEste es el valor de la Unidad de Fomento del día\, indicado en pesos chilenos. \nConoce más sobre la UF y su comportamiento aquí en nuestro blogConoce más indicadores diarios del Banco Central de Chile aquí
URL:https://lontue.com/uf/valor-uf-octubre-de-2024-18/
LOCATION:Chile\, Chile
ATTACH;FMTTYPE=image/jpeg:https://lontue.com/wp-content/uploads/2024/10/Valor-UF-septiembre-2024-Chile-Concepcion.jpg
END:VEVENT
BEGIN:VEVENT
DTSTART;VALUE=DATE:20241019
DTEND;VALUE=DATE:20241020
DTSTAMP:20260424T200157
CREATED:20241010T104534Z
LAST-MODIFIED:20241010T104534Z
UID:12949-1729296000-1729382399@lontue.com
SUMMARY:Valor UF octubre de 2024
DESCRIPTION:Valor UF octubre de 2024\n \n$37956.74 pesos\nEste es el valor de la Unidad de Fomento del día\, indicado en pesos chilenos. \nConoce más sobre la UF y su comportamiento aquí en nuestro blogConoce más indicadores diarios del Banco Central de Chile aquí
URL:https://lontue.com/uf/valor-uf-octubre-de-2024-19/
LOCATION:Chile\, Chile
ATTACH;FMTTYPE=image/jpeg:https://lontue.com/wp-content/uploads/2024/10/Valor-UF-septiembre-2024-Chile-Concepcion.jpg
END:VEVENT
BEGIN:VEVENT
DTSTART;VALUE=DATE:20241020
DTEND;VALUE=DATE:20241021
DTSTAMP:20260424T200157
CREATED:20241010T104547Z
LAST-MODIFIED:20241010T104547Z
UID:12950-1729382400-1729468799@lontue.com
SUMMARY:Valor UF octubre de 2024
DESCRIPTION:Valor UF octubre de 2024\n \n$37957.96 pesos\nEste es el valor de la Unidad de Fomento del día\, indicado en pesos chilenos. \nConoce más sobre la UF y su comportamiento aquí en nuestro blogConoce más indicadores diarios del Banco Central de Chile aquí
URL:https://lontue.com/uf/valor-uf-octubre-de-2024-20/
LOCATION:Chile\, Chile
ATTACH;FMTTYPE=image/jpeg:https://lontue.com/wp-content/uploads/2024/10/Valor-UF-septiembre-2024-Chile-Concepcion.jpg
END:VEVENT
BEGIN:VEVENT
DTSTART;VALUE=DATE:20241021
DTEND;VALUE=DATE:20241022
DTSTAMP:20260424T200157
CREATED:20241010T104549Z
LAST-MODIFIED:20241010T104549Z
UID:12951-1729468800-1729555199@lontue.com
SUMMARY:Valor UF octubre de 2024
DESCRIPTION:Valor UF octubre de 2024\n \n$37959.18 pesos\nEste es el valor de la Unidad de Fomento del día\, indicado en pesos chilenos. \nConoce más sobre la UF y su comportamiento aquí en nuestro blogConoce más indicadores diarios del Banco Central de Chile aquí
URL:https://lontue.com/uf/valor-uf-octubre-de-2024-21/
LOCATION:Chile\, Chile
ATTACH;FMTTYPE=image/jpeg:https://lontue.com/wp-content/uploads/2024/10/Valor-UF-septiembre-2024-Chile-Concepcion.jpg
END:VEVENT
BEGIN:VEVENT
DTSTART;VALUE=DATE:20241022
DTEND;VALUE=DATE:20241023
DTSTAMP:20260424T200157
CREATED:20241010T104550Z
LAST-MODIFIED:20241010T104550Z
UID:12952-1729555200-1729641599@lontue.com
SUMMARY:Valor UF octubre de 2024
DESCRIPTION:Valor UF octubre de 2024\n \n$37960.41 pesos\nEste es el valor de la Unidad de Fomento del día\, indicado en pesos chilenos. \nConoce más sobre la UF y su comportamiento aquí en nuestro blogConoce más indicadores diarios del Banco Central de Chile aquí
URL:https://lontue.com/uf/valor-uf-octubre-de-2024-22/
LOCATION:Chile\, Chile
ATTACH;FMTTYPE=image/jpeg:https://lontue.com/wp-content/uploads/2024/10/Valor-UF-septiembre-2024-Chile-Concepcion.jpg
END:VEVENT
BEGIN:VEVENT
DTSTART;VALUE=DATE:20241023
DTEND;VALUE=DATE:20241024
DTSTAMP:20260424T200157
CREATED:20241010T104551Z
LAST-MODIFIED:20241010T104551Z
UID:12953-1729641600-1729727999@lontue.com
SUMMARY:Valor UF octubre de 2024
DESCRIPTION:Valor UF octubre de 2024\n \n$37961.63 pesos\nEste es el valor de la Unidad de Fomento del día\, indicado en pesos chilenos. \nConoce más sobre la UF y su comportamiento aquí en nuestro blogConoce más indicadores diarios del Banco Central de Chile aquí
URL:https://lontue.com/uf/valor-uf-octubre-de-2024-23/
LOCATION:Chile\, Chile
ATTACH;FMTTYPE=image/jpeg:https://lontue.com/wp-content/uploads/2024/10/Valor-UF-septiembre-2024-Chile-Concepcion.jpg
END:VEVENT
BEGIN:VEVENT
DTSTART;VALUE=DATE:20241024
DTEND;VALUE=DATE:20241025
DTSTAMP:20260424T200157
CREATED:20241010T104553Z
LAST-MODIFIED:20241010T104553Z
UID:12954-1729728000-1729814399@lontue.com
SUMMARY:Valor UF octubre de 2024
DESCRIPTION:Valor UF octubre de 2024\n \n$37962.86 pesos\nEste es el valor de la Unidad de Fomento del día\, indicado en pesos chilenos. \nConoce más sobre la UF y su comportamiento aquí en nuestro blogConoce más indicadores diarios del Banco Central de Chile aquí
URL:https://lontue.com/uf/valor-uf-octubre-de-2024-24/
LOCATION:Chile\, Chile
ATTACH;FMTTYPE=image/jpeg:https://lontue.com/wp-content/uploads/2024/10/Valor-UF-septiembre-2024-Chile-Concepcion.jpg
END:VEVENT
BEGIN:VEVENT
DTSTART;VALUE=DATE:20241025
DTEND;VALUE=DATE:20241026
DTSTAMP:20260424T200157
CREATED:20241010T104747Z
LAST-MODIFIED:20241010T104747Z
UID:12955-1729814400-1729900799@lontue.com
SUMMARY:Valor UF octubre de 2024
DESCRIPTION:Valor UF octubre de 2024\n \n$37964.08 pesos\nEste es el valor de la Unidad de Fomento del día\, indicado en pesos chilenos. \nConoce más sobre la UF y su comportamiento aquí en nuestro blogConoce más indicadores diarios del Banco Central de Chile aquí
URL:https://lontue.com/uf/valor-uf-octubre-de-2024-25/
LOCATION:Chile\, Chile
ATTACH;FMTTYPE=image/jpeg:https://lontue.com/wp-content/uploads/2024/10/Valor-UF-septiembre-2024-Chile-Concepcion.jpg
END:VEVENT
BEGIN:VEVENT
DTSTART;VALUE=DATE:20241026
DTEND;VALUE=DATE:20241027
DTSTAMP:20260424T200157
CREATED:20241010T104748Z
LAST-MODIFIED:20241010T104748Z
UID:12956-1729900800-1729987199@lontue.com
SUMMARY:Valor UF octubre de 2024
DESCRIPTION:Valor UF octubre de 2024\n \n$37965.30 pesos\nEste es el valor de la Unidad de Fomento del día\, indicado en pesos chilenos. \nConoce más sobre la UF y su comportamiento aquí en nuestro blogConoce más indicadores diarios del Banco Central de Chile aquí
URL:https://lontue.com/uf/valor-uf-octubre-de-2024-26/
LOCATION:Chile\, Chile
ATTACH;FMTTYPE=image/jpeg:https://lontue.com/wp-content/uploads/2024/10/Valor-UF-septiembre-2024-Chile-Concepcion.jpg
END:VEVENT
BEGIN:VEVENT
DTSTART;VALUE=DATE:20241027
DTEND;VALUE=DATE:20241028
DTSTAMP:20260424T200157
CREATED:20241010T104749Z
LAST-MODIFIED:20241010T104749Z
UID:12957-1729987200-1730073599@lontue.com
SUMMARY:Valor UF octubre de 2024
DESCRIPTION:Valor UF octubre de 2024\n \n$37966.53 pesos\nEste es el valor de la Unidad de Fomento del día\, indicado en pesos chilenos. \nConoce más sobre la UF y su comportamiento aquí en nuestro blogConoce más indicadores diarios del Banco Central de Chile aquí
URL:https://lontue.com/uf/valor-uf-octubre-de-2024-27/
LOCATION:Chile\, Chile
ATTACH;FMTTYPE=image/jpeg:https://lontue.com/wp-content/uploads/2024/10/Valor-UF-septiembre-2024-Chile-Concepcion.jpg
END:VEVENT
BEGIN:VEVENT
DTSTART;VALUE=DATE:20241028
DTEND;VALUE=DATE:20241029
DTSTAMP:20260424T200157
CREATED:20241010T104750Z
LAST-MODIFIED:20241010T104750Z
UID:12958-1730073600-1730159999@lontue.com
SUMMARY:Valor UF octubre de 2024
DESCRIPTION:Valor UF octubre de 2024\n \n$37967.75 pesos\nEste es el valor de la Unidad de Fomento del día\, indicado en pesos chilenos. \nConoce más sobre la UF y su comportamiento aquí en nuestro blogConoce más indicadores diarios del Banco Central de Chile aquí
URL:https://lontue.com/uf/valor-uf-octubre-de-2024-28/
LOCATION:Chile\, Chile
ATTACH;FMTTYPE=image/jpeg:https://lontue.com/wp-content/uploads/2024/10/Valor-UF-septiembre-2024-Chile-Concepcion.jpg
END:VEVENT
BEGIN:VEVENT
DTSTART;VALUE=DATE:20241029
DTEND;VALUE=DATE:20241030
DTSTAMP:20260424T200157
CREATED:20241010T104751Z
LAST-MODIFIED:20241010T104751Z
UID:12959-1730160000-1730246399@lontue.com
SUMMARY:Valor UF octubre de 2024
DESCRIPTION:Valor UF octubre de 2024\n \n$37968.98 pesos\nEste es el valor de la Unidad de Fomento del día\, indicado en pesos chilenos. \nConoce más sobre la UF y su comportamiento aquí en nuestro blogConoce más indicadores diarios del Banco Central de Chile aquí
URL:https://lontue.com/uf/valor-uf-octubre-de-2024-29/
LOCATION:Chile\, Chile
ATTACH;FMTTYPE=image/jpeg:https://lontue.com/wp-content/uploads/2024/10/Valor-UF-septiembre-2024-Chile-Concepcion.jpg
END:VEVENT
BEGIN:VEVENT
DTSTART;VALUE=DATE:20241030
DTEND;VALUE=DATE:20241031
DTSTAMP:20260424T200157
CREATED:20241010T104948Z
LAST-MODIFIED:20241010T104948Z
UID:12960-1730246400-1730332799@lontue.com
SUMMARY:Valor UF octubre de 2024
DESCRIPTION:Valor UF octubre de 2024\n \n$37970.20 pesos\nEste es el valor de la Unidad de Fomento del día\, indicado en pesos chilenos. \nConoce más sobre la UF y su comportamiento aquí en nuestro blogConoce más indicadores diarios del Banco Central de Chile aquí
URL:https://lontue.com/uf/valor-uf-octubre-de-2024-30/
LOCATION:Chile\, Chile
ATTACH;FMTTYPE=image/jpeg:https://lontue.com/wp-content/uploads/2024/10/Valor-UF-septiembre-2024-Chile-Concepcion.jpg
END:VEVENT
BEGIN:VEVENT
DTSTART;VALUE=DATE:20241031
DTEND;VALUE=DATE:20241101
DTSTAMP:20260424T200157
CREATED:20241010T104949Z
LAST-MODIFIED:20241010T104949Z
UID:12961-1730332800-1730419199@lontue.com
SUMMARY:Valor UF octubre de 2024
DESCRIPTION:Valor UF octubre de 2024\n \n$37971.42 pesos\nEste es el valor de la Unidad de Fomento del día\, indicado en pesos chilenos. \nConoce más sobre la UF y su comportamiento aquí en nuestro blogConoce más indicadores diarios del Banco Central de Chile aquí
URL:https://lontue.com/uf/valor-uf-octubre-de-2024-31/
LOCATION:Chile\, Chile
ATTACH;FMTTYPE=image/jpeg:https://lontue.com/wp-content/uploads/2024/10/Valor-UF-septiembre-2024-Chile-Concepcion.jpg
END:VEVENT
BEGIN:VEVENT
DTSTART;VALUE=DATE:20241101
DTEND;VALUE=DATE:20241102
DTSTAMP:20260424T200157
CREATED:20241010T104951Z
LAST-MODIFIED:20241010T104951Z
UID:12962-1730419200-1730505599@lontue.com
SUMMARY:Valor UF noviembre de 2024
DESCRIPTION:Valor UF noviembre de 2024\n \n$37972.65 pesos\nEste es el valor de la Unidad de Fomento del día\, indicado en pesos chilenos. \nConoce más sobre la UF y su comportamiento aquí en nuestro blogConoce más indicadores diarios del Banco Central de Chile aquí
URL:https://lontue.com/uf/valor-uf-noviembre-de-2024/
LOCATION:Chile\, Chile
ATTACH;FMTTYPE=image/jpeg:https://lontue.com/wp-content/uploads/2024/10/Valor-UF-septiembre-2024-Chile-Concepcion.jpg
END:VEVENT
BEGIN:VEVENT
DTSTART;VALUE=DATE:20241102
DTEND;VALUE=DATE:20241103
DTSTAMP:20260424T200157
CREATED:20241010T104952Z
LAST-MODIFIED:20241010T104952Z
UID:12963-1730505600-1730591999@lontue.com
SUMMARY:Valor UF noviembre de 2024
DESCRIPTION:Valor UF noviembre de 2024\n \n$37973.87 pesos\nEste es el valor de la Unidad de Fomento del día\, indicado en pesos chilenos. \nConoce más sobre la UF y su comportamiento aquí en nuestro blogConoce más indicadores diarios del Banco Central de Chile aquí
URL:https://lontue.com/uf/valor-uf-noviembre-de-2024-2/
LOCATION:Chile\, Chile
ATTACH;FMTTYPE=image/jpeg:https://lontue.com/wp-content/uploads/2024/10/Valor-UF-septiembre-2024-Chile-Concepcion.jpg
END:VEVENT
BEGIN:VEVENT
DTSTART;VALUE=DATE:20241103
DTEND;VALUE=DATE:20241104
DTSTAMP:20260424T200157
CREATED:20241010T104953Z
LAST-MODIFIED:20241010T104953Z
UID:12964-1730592000-1730678399@lontue.com
SUMMARY:Valor UF noviembre de 2024
DESCRIPTION:Valor UF noviembre de 2024\n \n$37975.10 pesos\nEste es el valor de la Unidad de Fomento del día\, indicado en pesos chilenos. \nConoce más sobre la UF y su comportamiento aquí en nuestro blogConoce más indicadores diarios del Banco Central de Chile aquí
URL:https://lontue.com/uf/valor-uf-noviembre-de-2024-3/
LOCATION:Chile\, Chile
ATTACH;FMTTYPE=image/jpeg:https://lontue.com/wp-content/uploads/2024/10/Valor-UF-septiembre-2024-Chile-Concepcion.jpg
END:VEVENT
BEGIN:VEVENT
DTSTART;VALUE=DATE:20241104
DTEND;VALUE=DATE:20241105
DTSTAMP:20260424T200157
CREATED:20241010T105149Z
LAST-MODIFIED:20241010T105149Z
UID:12965-1730678400-1730764799@lontue.com
SUMMARY:Valor UF noviembre de 2024
DESCRIPTION:Valor UF noviembre de 2024\n \n$37976.32 pesos\nEste es el valor de la Unidad de Fomento del día\, indicado en pesos chilenos. \nConoce más sobre la UF y su comportamiento aquí en nuestro blogConoce más indicadores diarios del Banco Central de Chile aquí
URL:https://lontue.com/uf/valor-uf-noviembre-de-2024-4/
LOCATION:Chile\, Chile
ATTACH;FMTTYPE=image/jpeg:https://lontue.com/wp-content/uploads/2024/10/Valor-UF-septiembre-2024-Chile-Concepcion.jpg
END:VEVENT
BEGIN:VEVENT
DTSTART;VALUE=DATE:20241105
DTEND;VALUE=DATE:20241106
DTSTAMP:20260424T200157
CREATED:20241010T105151Z
LAST-MODIFIED:20241010T105151Z
UID:12966-1730764800-1730851199@lontue.com
SUMMARY:Valor UF noviembre de 2024
DESCRIPTION:Valor UF noviembre de 2024\n \n$37977.55 pesos\nEste es el valor de la Unidad de Fomento del día\, indicado en pesos chilenos. \nConoce más sobre la UF y su comportamiento aquí en nuestro blogConoce más indicadores diarios del Banco Central de Chile aquí
URL:https://lontue.com/uf/valor-uf-noviembre-de-2024-5/
LOCATION:Chile\, Chile
ATTACH;FMTTYPE=image/jpeg:https://lontue.com/wp-content/uploads/2024/10/Valor-UF-septiembre-2024-Chile-Concepcion.jpg
END:VEVENT
BEGIN:VEVENT
DTSTART;VALUE=DATE:20241106
DTEND;VALUE=DATE:20241107
DTSTAMP:20260424T200157
CREATED:20241010T105152Z
LAST-MODIFIED:20241010T105152Z
UID:12967-1730851200-1730937599@lontue.com
SUMMARY:Valor UF noviembre de 2024
DESCRIPTION:Valor UF noviembre de 2024\n \n$37978.77 pesos\nEste es el valor de la Unidad de Fomento del día\, indicado en pesos chilenos. \nConoce más sobre la UF y su comportamiento aquí en nuestro blogConoce más indicadores diarios del Banco Central de Chile aquí
URL:https://lontue.com/uf/valor-uf-noviembre-de-2024-6/
LOCATION:Chile\, Chile
ATTACH;FMTTYPE=image/jpeg:https://lontue.com/wp-content/uploads/2024/10/Valor-UF-septiembre-2024-Chile-Concepcion.jpg
END:VEVENT
BEGIN:VEVENT
DTSTART;VALUE=DATE:20241107
DTEND;VALUE=DATE:20241108
DTSTAMP:20260424T200157
CREATED:20241010T105153Z
LAST-MODIFIED:20241010T105153Z
UID:12968-1730937600-1731023999@lontue.com
SUMMARY:Valor UF noviembre de 2024
DESCRIPTION:Valor UF noviembre de 2024\n \n$37980.00 pesos\nEste es el valor de la Unidad de Fomento del día\, indicado en pesos chilenos. \nConoce más sobre la UF y su comportamiento aquí en nuestro blogConoce más indicadores diarios del Banco Central de Chile aquí
URL:https://lontue.com/uf/valor-uf-noviembre-de-2024-7/
LOCATION:Chile\, Chile
ATTACH;FMTTYPE=image/jpeg:https://lontue.com/wp-content/uploads/2024/10/Valor-UF-septiembre-2024-Chile-Concepcion.jpg
END:VEVENT
BEGIN:VEVENT
DTSTART;VALUE=DATE:20241108
DTEND;VALUE=DATE:20241109
DTSTAMP:20260424T200157
CREATED:20241010T105154Z
LAST-MODIFIED:20241010T105154Z
UID:12969-1731024000-1731110399@lontue.com
SUMMARY:Valor UF noviembre de 2024
DESCRIPTION:Valor UF noviembre de 2024\n \n$37981.22 pesos\nEste es el valor de la Unidad de Fomento del día\, indicado en pesos chilenos. \nConoce más sobre la UF y su comportamiento aquí en nuestro blogConoce más indicadores diarios del Banco Central de Chile aquí
URL:https://lontue.com/uf/valor-uf-noviembre-de-2024-8/
LOCATION:Chile\, Chile
ATTACH;FMTTYPE=image/jpeg:https://lontue.com/wp-content/uploads/2024/10/Valor-UF-septiembre-2024-Chile-Concepcion.jpg
END:VEVENT
END:VCALENDAR