BEGIN:VCALENDAR
VERSION:2.0
PRODID:-//Inmobiliaria Lontue - ECPv6.15.17//NONSGML v1.0//EN
CALSCALE:GREGORIAN
METHOD:PUBLISH
X-ORIGINAL-URL:https://lontue.com
X-WR-CALDESC:Eventos para Inmobiliaria Lontue
REFRESH-INTERVAL;VALUE=DURATION:PT1H
X-Robots-Tag:noindex
X-PUBLISHED-TTL:PT1H
BEGIN:VTIMEZONE
TZID:America/Lima
BEGIN:STANDARD
TZOFFSETFROM:-0500
TZOFFSETTO:-0500
TZNAME:-05
DTSTART:20240101T000000
END:STANDARD
END:VTIMEZONE
BEGIN:VEVENT
DTSTART;VALUE=DATE:20250728
DTEND;VALUE=DATE:20250729
DTSTAMP:20260420T160807
CREATED:20250717T171243Z
LAST-MODIFIED:20250717T171243Z
UID:14188-1753660800-1753747199@lontue.com
SUMMARY:Valor UF julio de 2025
DESCRIPTION:Valor UF julio de 2025\n \n$39194\,21 pesos\nEste es el valor de la Unidad de Fomento del día\, indicado en pesos chilenos. \nConoce más sobre la UF y su comportamiento aquí en nuestro blogConoce más indicadores diarios del Banco Central de Chile aquí
URL:https://lontue.com/uf/valor-uf-julio-de-2025-27/
LOCATION:Chile\, Chile
ATTACH;FMTTYPE=image/jpeg:https://lontue.com/wp-content/uploads/2025/07/valor_uf_2025_chile_concepcion_.jpg
END:VEVENT
END:VCALENDAR