BEGIN:VCALENDAR
VERSION:2.0
PRODID:-//Inmobiliaria Lontue - ECPv6.15.17//NONSGML v1.0//EN
CALSCALE:GREGORIAN
METHOD:PUBLISH
X-WR-CALNAME:Inmobiliaria Lontue
X-ORIGINAL-URL:https://lontue.com
X-WR-CALDESC:Eventos para Inmobiliaria Lontue
REFRESH-INTERVAL;VALUE=DURATION:PT1H
X-Robots-Tag:noindex
X-PUBLISHED-TTL:PT1H
BEGIN:VTIMEZONE
TZID:America/Lima
BEGIN:STANDARD
TZOFFSETFROM:-0500
TZOFFSETTO:-0500
TZNAME:-05
DTSTART:20230101T000000
END:STANDARD
END:VTIMEZONE
BEGIN:VEVENT
DTSTART;VALUE=DATE:20241215
DTEND;VALUE=DATE:20241216
DTSTAMP:20260424T144809
CREATED:20250312T132838Z
LAST-MODIFIED:20250312T193118Z
UID:13353-1734220800-1734307199@lontue.com
SUMMARY:Valor UF diciembre de 2024
DESCRIPTION:Valor UF diciembre de 2024\n \n$38377\,10 pesos\nEste es el valor de la Unidad de Fomento del día\, indicado en pesos chilenos. \nConoce más sobre la UF y su comportamiento aquí en nuestro blogConoce más indicadores diarios del Banco Central de Chile aquí
URL:https://lontue.com/uf/valor-uf-diciembre-de-2024-15/
LOCATION:Chile\, Chile
ATTACH;FMTTYPE=image/jpeg:https://lontue.com/wp-content/uploads/2025/03/valor_uf_2025_chile_concepcion.jpg
END:VEVENT
END:VCALENDAR